BEGIN:VCALENDAR
VERSION:2.0
CALSCALE:GREGORIAN
METHOD:PUBLISH
PRODID://NDCP//471320
BEGIN:VEVENT
DTSTAMP:20260423T162324
VTIMEZONE:America/Chicago
DTSTART:20260410T050000Z
DTEND:20341231T060000Z
UID:471320
SUMMARY:The Future of Audit: Technology, Talent &amp; Transformation
LOCATION:Anytime CPE
DESCRIPTION:The Future of Audit: Technology, Talent & Transformation\n\n04/10/26 12:00 AM CST\n - 12/31/34 12:00 AM CST\Description:\nThe audit profession stands at a critical inflection point, facing unprecedented challenges from technological disruption, evolving regulatory landscapes, and workforce transformation. This comprehensive course, based on the Pennsylvania Institute of CPAs' groundbreaking research report "The Future of the Audit: Building Relevance and Sustaining Quality," provides auditors with essential insights and actionable strategies to navigate these seismic shifts. Through expert perspectives from industry leaders including PCAOB board members, Big Four executives, and audit committee chairs, participants will explore how artificial intelligence, blockchain, and data analytics are fundamentally reshaping audit practices while creating new opportunities for value creation and risk assessment.Objectives:After attending this presentation, you will be able to...
 Implement AI and blockchain tools to enhance audit quality
 Develop talent retention strategies for technology-savvy teams
 Navigate regulatory sandboxes for safe technology adoption
 Expand services to include ESG and real-time assurance
 Create actionable plans for audit transformation
 Instructor:Leeland RogersFields of Study:Auditing\Location:\nAnytime CPE\n\n,
X-ALT-DESC;FMTTYPE=text/html:The Future of Audit: Technology, Talent &amp; Transformation<br /><br />04/10/26 12:00 AM CST - 12/31/34 12:00 AM CST<br />Description:<br />The audit profession stands at a critical inflection point, facing unprecedented challenges from technological disruption, evolving regulatory landscapes, and workforce transformation. This comprehensive course, based on the Pennsylvania Institute of CPAs' groundbreaking research report &quot;The Future of the Audit: Building Relevance and Sustaining Quality,&quot; provides auditors with essential insights and actionable strategies to navigate these seismic shifts. Through expert perspectives from industry leaders including PCAOB board members, Big Four executives, and audit committee chairs, participants will explore how artificial intelligence, blockchain, and data analytics are fundamentally reshaping audit practices while creating new opportunities for value creation and risk assessment.<br><br><b>Objectives:</b>After attending this presentation, you will be able to...<br />
<br />
<br />
Implement AI and blockchain tools to enhance audit quality<br />
<br />
Develop talent retention strategies for technology-savvy teams<br />
<br />
Navigate regulatory sandboxes for safe technology adoption<br />
<br />
Expand services to include ESG and real-time assurance<br />
<br />
Create actionable plans for audit transformation<br />
<br><br><b>Instructor:</b><br>Leeland Rogers<br><br><b>Fields of Study:</b><br>Auditing<br />Location:<br />Anytime CPE<br /><br />,  
PRIORITY:3
TRANSP:TRANSPARENT
BEGIN:VALARM
TRIGGER:-PT5M
ACTION:DISPLAY
DESCRIPTION:Reminder
END:VALARM
END:VEVENT
END:VCALENDAR
