BEGIN:VCALENDAR
VERSION:2.0
CALSCALE:GREGORIAN
METHOD:PUBLISH
PRODID://SDDC//471316
BEGIN:VEVENT
DTSTAMP:20260422T182117
VTIMEZONE:America/Chicago
DTSTART:20261212T170000Z
DTEND:20261212T190000Z
UID:471316
SUMMARY:Starry Saturday
LOCATION:South Dakota Discovery Center, 805 W Sioux Ave, Pierre, So, 57501
DESCRIPTION:Starry Saturday\n\n12/12/26 11:00 AM CST\n - 12/12/26 01:00 PM CST\Description:\nINCLUDED WITH ADMISSION!\nJourney Beyond the Known of constellations, moons, deep space objects, or even aliens! \Location:\nSouth Dakota Discovery Center\n805 W Sioux Ave\nPierre, So 57501
X-ALT-DESC;FMTTYPE=text/html:Starry Saturday<br /><br />12/12/26 11:00 AM CST - 12/12/26 01:00 PM CST<br />Description:<br />INCLUDED WITH ADMISSION!<br />
Journey Beyond the Known of constellations, moons, deep space objects, or even aliens!&nbsp;<br />Location:<br />South Dakota Discovery Center<br />805 W Sioux Ave<br />Pierre, So 57501
PRIORITY:3
TRANSP:TRANSPARENT
BEGIN:VALARM
TRIGGER:-PT5M
ACTION:DISPLAY
DESCRIPTION:Reminder
END:VALARM
END:VEVENT
END:VCALENDAR
