BEGIN:VCALENDAR
VERSION:2.0
CALSCALE:GREGORIAN
METHOD:PUBLISH
PRODID://SDDC//471311
BEGIN:VEVENT
DTSTAMP:20260422T182047
VTIMEZONE:America/Chicago
DTSTART:20260711T160000Z
DTEND:20260711T180000Z
UID:471311
SUMMARY:Starry Saturday
LOCATION:South Dakota Discovery Center, 805 W Sioux Ave, Pierre, So, 57501
DESCRIPTION:Starry Saturday\n\n07/11/26 11:00 AM CST\n - 07/11/26 01:00 PM CST\Description:\nINCLUDED WITH ADMISSION!\nJourney Beyond the Known of constellations, moons, deep space objects, or even aliens! \Location:\nSouth Dakota Discovery Center\n805 W Sioux Ave\nPierre, So 57501
X-ALT-DESC;FMTTYPE=text/html:Starry Saturday<br /><br />07/11/26 11:00 AM CST - 07/11/26 01:00 PM CST<br />Description:<br />INCLUDED WITH ADMISSION!<br />
Journey Beyond the Known of constellations, moons, deep space objects, or even aliens!&nbsp;<br />Location:<br />South Dakota Discovery Center<br />805 W Sioux Ave<br />Pierre, So 57501
PRIORITY:3
TRANSP:TRANSPARENT
BEGIN:VALARM
TRIGGER:-PT5M
ACTION:DISPLAY
DESCRIPTION:Reminder
END:VALARM
END:VEVENT
END:VCALENDAR
