BEGIN:VCALENDAR
VERSION:2.0
CALSCALE:GREGORIAN
METHOD:PUBLISH
PRODID://NWSA//471227
BEGIN:VEVENT
DTSTAMP:20260420T211904
VTIMEZONE:America/New_York
DTSTART:20260212T000000Z
DTEND:20260212T020000Z
UID:471227
SUMMARY:How to Use Aqua Map Navigation App â€“ NWSA Members Only Class
LOCATION:
DESCRIPTION:How to Use Aqua Map Navigation App â€“ NWSA Members Only Class\n\n02/11/26 07:00 PM EST\n - 02/11/26 09:00 PM EST\Description:\nLearn Aqua Map settings for your boat and units of measure, how to identify aids to navigation in the real world versus what is shown on Aqua Map, displaying winds and currents, plotting a course from point A to point B manually and using the new Route Planner tool.\nThe student is encouraged to have a tablet with Aqua Map App Loaded and preferably an Aqua Map membership suitable for beginner and intermediate sailor. Prerequisite recommended: Basic Chart Navigation. \nA limited number of free Aqua Map licenses will be available for participant use in this class.
X-ALT-DESC;FMTTYPE=text/html:How to Use Aqua Map Navigation App â€“ NWSA Members Only Class<br /><br />02/11/26 07:00 PM EST - 02/11/26 09:00 PM EST<br />Description:<br /><span style="font-family:tahoma,geneva,sans-serif"><span style="font-size:14px">Learn Aqua Map settings for your boat and units of measure, how to identify aids to navigation in the real world versus what is shown on Aqua Map, displaying winds and currents, plotting a course from point A to point B manually and using the new Route Planner tool.<br />
The student is encouraged to have a tablet with Aqua Map App Loaded and preferably an Aqua Map membership suitable for beginner and intermediate sailor. Prerequisite recommended: Basic Chart Navigation.&nbsp;<br />
A limited number of free Aqua Map licenses will be available for participant use in this class.</span></span>
PRIORITY:3
TRANSP:TRANSPARENT
BEGIN:VALARM
TRIGGER:-PT5M
ACTION:DISPLAY
DESCRIPTION:Reminder
END:VALARM
END:VEVENT
END:VCALENDAR
