BEGIN:VCALENDAR
VERSION:2.0
CALSCALE:GREGORIAN
METHOD:PUBLISH
PRODID://ILRW//470794
BEGIN:VEVENT
DTSTAMP:20260422T121332
VTIMEZONE:America/Chicago
DTSTART:20260415T180000Z
DTEND:20260415T190000Z
UID:470794
SUMMARY:Taking Water Tanks Offline While Maintaining System Pressure - Maguire Webinar
LOCATION:
DESCRIPTION:Taking Water Tanks Offline While Maintaining System Pressure - Maguire Webinar\n\n04/15/26 01:00 PM CST\n - 04/15/26 02:00 PM CST\Description:\nWe will discuss how to take your water storage tank offline for service and the options for maintaining pressure while the tank is offline.
X-ALT-DESC;FMTTYPE=text/html:Taking Water Tanks Offline While Maintaining System Pressure - Maguire Webinar<br /><br />04/15/26 01:00 PM CST - 04/15/26 02:00 PM CST<br />Description:<br />We will discuss how to take your water storage tank offline for service and the options for maintaining pressure while the tank is offline.
PRIORITY:3
TRANSP:TRANSPARENT
BEGIN:VALARM
TRIGGER:-PT5M
ACTION:DISPLAY
DESCRIPTION:Reminder
END:VALARM
END:VEVENT
END:VCALENDAR
