BEGIN:VCALENDAR
VERSION:2.0
CALSCALE:GREGORIAN
METHOD:PUBLISH
PRODID://ACOC//470451
BEGIN:VEVENT
DTSTAMP:20260423T142623
VTIMEZONE:America/Denver
DTSTART:20251231T210000Z
DTEND:20260101T000000Z
UID:470451
SUMMARY:New Year's Eve Dinner & Dance - Senior Center
LOCATION:Alamo Senior Center, 2201 Puerto Rico Ave., Alamogordo, NM, 88310
DESCRIPTION:New Year's Eve Dinner & Dance - Senior Center\n\n12/31/25 02:00 PM MST\n - 12/31/25 05:00 PM MST\Description:\nNew Year's Eve Dinner & Dance with music by Selmo!\nIncludes a prime rib dinner.\nTickets are $15.00 per person\Details:\nTickets are $15.00 per person.\Location:\nAlamo Senior Center\n2201 Puerto Rico Ave.\nAlamogordo, NM 88310
X-ALT-DESC;FMTTYPE=text/html:New Year's Eve Dinner & Dance - Senior Center<br /><br />12/31/25 02:00 PM MST - 12/31/25 05:00 PM MST<br />Description:<br />New Year's Eve Dinner &amp; Dance with music by Selmo!<br />
Includes a prime rib dinner.<br />
Tickets are $15.00 per person<br />Details:<br />Tickets are $15.00 per person.<br />Location:<br />Alamo Senior Center<br />2201 Puerto Rico Ave.<br />Alamogordo, NM 88310
PRIORITY:3
TRANSP:TRANSPARENT
BEGIN:VALARM
TRIGGER:-PT5M
ACTION:DISPLAY
DESCRIPTION:Reminder
END:VALARM
END:VEVENT
END:VCALENDAR
