BEGIN:VCALENDAR
VERSION:2.0
CALSCALE:GREGORIAN
METHOD:PUBLISH
PRODID://ACOC//470450
BEGIN:VEVENT
DTSTAMP:20260420T040544
VTIMEZONE:America/Denver
DTSTART:20251228T181500Z
DTEND:20251228T194500Z
UID:470450
SUMMARY:SINGLES of Otero County
LOCATION:Pizza 9 (inside the White Sands Mall), 3199 N. White Sands Blvd, Alamogordo, NM, 88310
DESCRIPTION:SINGLES of Otero County\n\n12/28/25 11:15 AM MST\n - 12/28/25 12:45 PM MST\Description:\nSingles of Otero County will meet for lunch at Pizza 9 for Sunday buffet. We are a social group ranging in age from "about" 60 to late 80s. If you wish to attend, please call the POC or send an email to POC so we know how large an area to set up at the restaurant.\Details:\nEach person pays for his/her own meal.\Location:\nPizza 9 (inside the White Sands Mall)\n3199 N. White Sands Blvd\nAlamogordo, NM 88310
X-ALT-DESC;FMTTYPE=text/html:SINGLES of Otero County<br /><br />12/28/25 11:15 AM MST - 12/28/25 12:45 PM MST<br />Description:<br />Singles of Otero County will meet for lunch at Pizza 9 for Sunday buffet. We are a social group ranging in age from &quot;about&quot; 60 to late 80s. If you wish to attend, please call the POC or send an email to POC so we know how large an area to set up at the restaurant.<br />Details:<br />Each person pays for his/her own meal.<br />Location:<br />Pizza 9 (inside the White Sands Mall)<br />3199 N. White Sands Blvd<br />Alamogordo, NM 88310
PRIORITY:3
TRANSP:TRANSPARENT
BEGIN:VALARM
TRIGGER:-PT5M
ACTION:DISPLAY
DESCRIPTION:Reminder
END:VALARM
END:VEVENT
END:VCALENDAR
