BEGIN:VCALENDAR
VERSION:2.0
CALSCALE:GREGORIAN
METHOD:PUBLISH
PRODID://OMEA//469333
BEGIN:VEVENT
DTSTAMP:20260422T094918
VTIMEZONE:America/New_York
DTSTART:20260513T120000Z
DTEND:20260516T000000Z
UID:469333
SUMMARY:D15 - JH LG - Capital University
LOCATION:Capital University, E Main St & College Ave, Bexley, OH, 43209
DESCRIPTION:D15 - JH LG - Capital University\n\n05/13/26 08:00 AM EST\n - 05/15/26 08:00 PM EST\Description:\nThe 2026 event will be held at Capital University May 13th through the 15th. Final details to be finalized but it will likely be 2 days of band events and a day of choir events with opportunities to perform during school hours.\Details:\nBecky Wagner Event Chair\Location:\nCapital University\nE Main St & College Ave\nBexley, OH 43209
X-ALT-DESC;FMTTYPE=text/html:D15 - JH LG - Capital University<br /><br />05/13/26 08:00 AM EST - 05/15/26 08:00 PM EST<br />Description:<br />The 2026 event will be held at Capital University May 13th through the 15th. Final details to be finalized but it will likely be 2 days of band events and a day of choir events with opportunities to perform during school hours.<br />Details:<br />Becky Wagner Event Chair<br />Location:<br />Capital University<br />E Main St & College Ave<br />Bexley, OH 43209
PRIORITY:3
TRANSP:TRANSPARENT
BEGIN:VALARM
TRIGGER:-PT5M
ACTION:DISPLAY
DESCRIPTION:Reminder
END:VALARM
END:VEVENT
END:VCALENDAR
