BEGIN:VCALENDAR
VERSION:2.0
CALSCALE:GREGORIAN
METHOD:PUBLISH
PRODID://BSTL//469276
BEGIN:VEVENT
DTSTAMP:20260422T081905
VTIMEZONE:America/Chicago
DTSTART:20260121T160000Z
DTEND:20260121T180000Z
UID:469276
SUMMARY:WEBINAR: CISA Active Shooter Preparedness
LOCATION:
DESCRIPTION:WEBINAR: CISA Active Shooter Preparedness\n\n01/21/26 10:00 AM CST\n - 01/21/26 12:00 PM CST\Description:\nPreparing for a potential active shooter incident is a crucial component of incident response planning. Given that these situations are dynamic, frequently unpredictable, and can escalate rapidly, understanding the appropriate actions to take during an active shooter event can be lifesaving. Every second counts.
X-ALT-DESC;FMTTYPE=text/html:WEBINAR: CISA Active Shooter Preparedness<br /><br />01/21/26 10:00 AM CST - 01/21/26 12:00 PM CST<br />Description:<br />Preparing for a potential active shooter incident is a crucial component of incident response planning. Given that these situations are dynamic, frequently unpredictable, and can escalate rapidly, understanding the appropriate actions to take during an active shooter event can be lifesaving. Every second counts.
PRIORITY:3
TRANSP:TRANSPARENT
BEGIN:VALARM
TRIGGER:-PT5M
ACTION:DISPLAY
DESCRIPTION:Reminder
END:VALARM
END:VEVENT
END:VCALENDAR
