BEGIN:VCALENDAR
VERSION:2.0
CALSCALE:GREGORIAN
METHOD:PUBLISH
PRODID://SAMT//469244
BEGIN:VEVENT
DTSTAMP:20260419T230656
VTIMEZONE:America/Denver
DTSTART:20260108T170000Z
DTEND:20260108T180000Z
UID:469244
SUMMARY:SAM Webinar - Career Connected Tools for All K12 Schools
LOCATION:
DESCRIPTION:SAM Webinar - Career Connected Tools for All K12 Schools\n\n01/08/26 10:00 AM MST\n - 01/08/26 11:00 AM MST\Description:\nConnect via the SAM Zoom Meeting Room\nJoin Zoom Meeting\nhttps://us06web.zoom.us/j/3923446729\nMeeting ID: 392 344 6729
X-ALT-DESC;FMTTYPE=text/html:SAM Webinar - Career Connected Tools for All K12 Schools<br /><br />01/08/26 10:00 AM MST - 01/08/26 11:00 AM MST<br />Description:<br />Connect via the SAM Zoom Meeting Room<br />
Join Zoom Meeting<br />
<a href="https://us06web.zoom.us/j/3923446729">https://us06web.zoom.us/j/3923446729</a><br />
Meeting ID: 392 344 6729
PRIORITY:3
TRANSP:TRANSPARENT
BEGIN:VALARM
TRIGGER:-PT5M
ACTION:DISPLAY
DESCRIPTION:Reminder
END:VALARM
END:VEVENT
END:VCALENDAR
