BEGIN:VCALENDAR
VERSION:2.0
CALSCALE:GREGORIAN
METHOD:PUBLISH
PRODID://CRWA//468523
BEGIN:VEVENT
DTSTAMP:20260421T132708
VTIMEZONE:America/Denver
DTSTART:20260219T150000Z
DTEND:20260219T210000Z
UID:468523
SUMMARY:Confined Space 
LOCATION:Colorado Rural Water Association , 176 West Palmer Lake Drive, Pueblo West, Co, 81007
DESCRIPTION:Confined Space \n\n02/19/26 08:00 AM MST\n - 02/19/26 02:00 PM MST\Description:\n\nLearn why OSHA spent 7-years investigating confined space accidents under the old 1910 General Industry Confined Space Standard and introduced the new 1926 Sub Part AA Confined Space for Construction in 2016. We'll learn what practices and procedures municipalities need to follow to protect employees and your legal responsibilities when you have a general contractor or sub-contractor doing work for your district.\n\n\n	\n		\n			Max TUs\n			0.6\n			 \n			 \n			 \n		\n		\n			Water Treatment\n			0.6\n			 \n			 \n			 \n		\n		\n			Wastewater Treatment\n			0.6\n			 \n			 \n			 \n		\n		\n			Industrial Wastewater Treatment\n			0.6\n			 \n			 \n			 \n		\n		\n			Water Distribution\n			0.6\n			 \n			 \n			 \n		\n		\n			Wastewater Collection\n			0.6\n		\n	\n\n\Location:\nColorado Rural Water Association \n176 West Palmer Lake Drive\nPueblo West, Co 81007
X-ALT-DESC;FMTTYPE=text/html:Confined Space <br /><br />02/19/26 08:00 AM MST - 02/19/26 02:00 PM MST<br />Description:<br /><pre id="txtdescription">
Learn why OSHA spent 7-years investigating confined space accidents under the old 1910 General Industry Confined Space Standard and introduced the new 1926 Sub Part AA Confined Space for Construction in 2016. We'll learn what practices and procedures municipalities need to follow to protect employees and your legal responsibilities when you have a general contractor or sub-contractor doing work for your district.</pre>

<table id="dtContactHoursandTrainingUnits">
	<tbody data-bind="foreach: ContactHoursAndTrainingUnitsviewModel">
		<tr>
			<td>Max TUs</td>
			<td>0.6</td>
			<td>&nbsp;</td>
			<td>&nbsp;</td>
			<td>&nbsp;</td>
		</tr>
		<tr>
			<td>Water Treatment</td>
			<td>0.6</td>
			<td>&nbsp;</td>
			<td>&nbsp;</td>
			<td>&nbsp;</td>
		</tr>
		<tr>
			<td>Wastewater Treatment</td>
			<td>0.6</td>
			<td>&nbsp;</td>
			<td>&nbsp;</td>
			<td>&nbsp;</td>
		</tr>
		<tr>
			<td>Industrial Wastewater Treatment</td>
			<td>0.6</td>
			<td>&nbsp;</td>
			<td>&nbsp;</td>
			<td>&nbsp;</td>
		</tr>
		<tr>
			<td>Water Distribution</td>
			<td>0.6</td>
			<td>&nbsp;</td>
			<td>&nbsp;</td>
			<td>&nbsp;</td>
		</tr>
		<tr>
			<td>Wastewater Collection</td>
			<td>0.6</td>
		</tr>
	</tbody>
</table>
<br />Location:<br />Colorado Rural Water Association <br />176 West Palmer Lake Drive<br />Pueblo West, Co 81007
PRIORITY:3
TRANSP:TRANSPARENT
BEGIN:VALARM
TRIGGER:-PT5M
ACTION:DISPLAY
DESCRIPTION:Reminder
END:VALARM
END:VEVENT
END:VCALENDAR
