BEGIN:VCALENDAR
VERSION:2.0
CALSCALE:GREGORIAN
METHOD:PUBLISH
PRODID://CRWA//468427
BEGIN:VEVENT
DTSTAMP:20260422T095503
VTIMEZONE:America/Denver
DTSTART:20260115T150000Z
DTEND:20260115T170000Z
UID:468427
SUMMARY:Math Basics & Strategies I & II
LOCATION:
DESCRIPTION:Math Basics & Strategies I & II\n\n01/15/26 08:00 AM MST\n - 01/15/26 10:00 AM MST\Description:\n\nThis course integrates foundational concepts with hands-on math practice to support entry-level operators. It demonstrates a variety of problem-solving techniques and strategies used on the job and during certification exams, helping learners gain confidence in applying math to real-world scenarios. Through step-by-step instruction, participants will develop essential math skills, including analyzing word problems, selecting appropriate formulas, applying the order of operations and unit conversions, and performing basic algebraic manipulations. The course also covers key topics such as powers and scientific notation, dimensional analysis, rounding and estimating, solving for unknown values, ratios and proportions, averages, and working with percents and decimals.\n\n\n\n\n\n	\n		\n			Max TUs\n			0.2\n			 \n			 \n			 \n		\n		\n			Water Treatment\n			0.2\n			 \n			 \n			 \n		\n		\n			Wastewater Treatment\n			0.2\n			 \n			 \n			 \n		\n		\n			Industrial Wastewater Treatment\n			0.2\n			 \n			 \n			 \n		\n		\n			Water Distribution\n			0.2\n			 \n			 \n			 \n		\n		\n			Wastewater Collection\n			0.2\n		\n	\n\n
X-ALT-DESC;FMTTYPE=text/html:Math Basics & Strategies I & II<br /><br />01/15/26 08:00 AM MST - 01/15/26 10:00 AM MST<br />Description:<br /><pre id="txtdescription">
This course integrates foundational concepts with hands-on math practice to support entry-level operators. It demonstrates a variety of problem-solving techniques and strategies used on the job and during certification exams, helping learners gain confidence in applying math to real-world scenarios. Through step-by-step instruction, participants will develop essential math skills, including analyzing word problems, selecting appropriate formulas, applying the order of operations and unit conversions, and performing basic algebraic manipulations. The course also covers key topics such as powers and scientific notation, dimensional analysis, rounding and estimating, solving for unknown values, ratios and proportions, averages, and working with percents and decimals.


</pre>

<table id="dtContactHoursandTrainingUnits">
	<tbody data-bind="foreach: ContactHoursAndTrainingUnitsviewModel">
		<tr>
			<td>Max TUs</td>
			<td>0.2</td>
			<td>&nbsp;</td>
			<td>&nbsp;</td>
			<td>&nbsp;</td>
		</tr>
		<tr>
			<td>Water Treatment</td>
			<td>0.2</td>
			<td>&nbsp;</td>
			<td>&nbsp;</td>
			<td>&nbsp;</td>
		</tr>
		<tr>
			<td>Wastewater Treatment</td>
			<td>0.2</td>
			<td>&nbsp;</td>
			<td>&nbsp;</td>
			<td>&nbsp;</td>
		</tr>
		<tr>
			<td>Industrial Wastewater Treatment</td>
			<td>0.2</td>
			<td>&nbsp;</td>
			<td>&nbsp;</td>
			<td>&nbsp;</td>
		</tr>
		<tr>
			<td>Water Distribution</td>
			<td>0.2</td>
			<td>&nbsp;</td>
			<td>&nbsp;</td>
			<td>&nbsp;</td>
		</tr>
		<tr>
			<td>Wastewater Collection</td>
			<td>0.2</td>
		</tr>
	</tbody>
</table>

PRIORITY:3
TRANSP:TRANSPARENT
BEGIN:VALARM
TRIGGER:-PT5M
ACTION:DISPLAY
DESCRIPTION:Reminder
END:VALARM
END:VEVENT
END:VCALENDAR
