BEGIN:VCALENDAR
VERSION:2.0
CALSCALE:GREGORIAN
METHOD:PUBLISH
PRODID://BGTB//466932
BEGIN:VEVENT
DTSTAMP:20260423T060647
VTIMEZONE:America/New_York
DTSTART:20260923T143000Z
DTEND:20260923T153000Z
UID:466932
SUMMARY:September BOMA GTB Board of Directors Meeting
LOCATION:University Club of Tampa, One Tampa City Center, Tampa, FL, 33602
DESCRIPTION:September BOMA GTB Board of Directors Meeting\n\n09/23/26 10:30 AM EST\n - 09/23/26 11:30 AM EST\Description:\nThe BOMA GTB Board of Directors will hold its monthly meeting at 10:30 am at the University Club of Tampa, One Tampa City Center, 201 N. Franklin St., Suite 3800, Tampa, FL 33602.\n\nThe meeting will be held in the Gasparilla Room.\n \Location:\nUniversity Club of Tampa\nOne Tampa City Center\nTampa, FL 33602
X-ALT-DESC;FMTTYPE=text/html:September BOMA GTB Board of Directors Meeting<br /><br />09/23/26 10:30 AM EST - 09/23/26 11:30 AM EST<br />Description:<br />The BOMA GTB Board of Directors will hold its monthly meeting at 10:30 am at the University Club of Tampa, One Tampa City Center, 201 N. Franklin St., Suite 3800, Tampa, FL 33602.<br />
<br />
The meeting will be held in the Gasparilla Room.<br />
&nbsp;<br />Location:<br />University Club of Tampa<br />One Tampa City Center<br />Tampa, FL 33602
PRIORITY:3
TRANSP:TRANSPARENT
BEGIN:VALARM
TRIGGER:-PT5M
ACTION:DISPLAY
DESCRIPTION:Reminder
END:VALARM
END:VEVENT
END:VCALENDAR
