BEGIN:VCALENDAR
VERSION:2.0
CALSCALE:GREGORIAN
METHOD:PUBLISH
PRODID://BGTB//466931
BEGIN:VEVENT
DTSTAMP:20260422T232111
VTIMEZONE:America/New_York
DTSTART:20260722T143000Z
DTEND:20260722T153000Z
UID:466931
SUMMARY:July BOMA GTB Board of Directors Meeting
LOCATION:Ruth Eckerd Hall, 1111 McMullen Booth Road, Clearwater, FL, 33759
DESCRIPTION:July BOMA GTB Board of Directors Meeting\n\n07/22/26 10:30 AM EST\n - 07/22/26 11:30 AM EST\Description:\nThe BOMA GTB Board of Directors will hold its monthly meeting at 10:30 am at Ruth Eckerd Hall, 1111 McMullen Booth Road, Clearwater, FL 33759.\n\nThe meeting will be held on the second floor in the Margarete Heye Great Room.\n\n \Location:\nRuth Eckerd Hall\n1111 McMullen Booth Road\nClearwater, FL 33759
X-ALT-DESC;FMTTYPE=text/html:July BOMA GTB Board of Directors Meeting<br /><br />07/22/26 10:30 AM EST - 07/22/26 11:30 AM EST<br />Description:<br />The BOMA GTB Board of Directors will hold its monthly meeting at 10:30 am at Ruth Eckerd Hall, 1111 McMullen Booth Road, Clearwater, FL 33759.<br />
<br />
The meeting will be held on the second floor in the Margarete Heye Great Room.<br />
<br />
&nbsp;<br />Location:<br />Ruth Eckerd Hall<br />1111 McMullen Booth Road<br />Clearwater, FL 33759
PRIORITY:3
TRANSP:TRANSPARENT
BEGIN:VALARM
TRIGGER:-PT5M
ACTION:DISPLAY
DESCRIPTION:Reminder
END:VALARM
END:VEVENT
END:VCALENDAR
