BEGIN:VCALENDAR
VERSION:2.0
CALSCALE:GREGORIAN
METHOD:PUBLISH
PRODID://BGTB//466886
BEGIN:VEVENT
DTSTAMP:20260421T063302
VTIMEZONE:America/New_York
DTSTART:20260624T153000Z
DTEND:20260624T170000Z
UID:466886
SUMMARY:BOMA June Luncheon Meeting
LOCATION:Centre Club, Urban Center - 8th Floor of the Parking Garage, Tampa, FL, 33609
DESCRIPTION:BOMA June Luncheon Meeting\n\n06/24/26 11:30 AM EST\n - 06/24/26 01:00 PM EST\Location:\nCentre Club\nUrban Center - 8th Floor of the Parking Garage\nTampa, FL 33609
X-ALT-DESC;FMTTYPE=text/html:BOMA June Luncheon Meeting<br /><br />06/24/26 11:30 AM EST - 06/24/26 01:00 PM EST<br />Location:<br />Centre Club<br />Urban Center - 8th Floor of the Parking Garage<br />Tampa, FL 33609
PRIORITY:3
TRANSP:TRANSPARENT
BEGIN:VALARM
TRIGGER:-PT5M
ACTION:DISPLAY
DESCRIPTION:Reminder
END:VALARM
END:VEVENT
END:VCALENDAR
