BEGIN:VCALENDAR
VERSION:2.0
CALSCALE:GREGORIAN
METHOD:PUBLISH
PRODID://BGTB//466882
BEGIN:VEVENT
DTSTAMP:20260424T013236
VTIMEZONE:America/New_York
DTSTART:20260122T163000Z
DTEND:20260122T180000Z
UID:466882
SUMMARY:BOMA January Luncheon Meeting
LOCATION:Centre Club, Urban Center - 8th Floor of the Parking Garage, Tampa, FL, 33609
DESCRIPTION:BOMA January Luncheon Meeting\n\n01/22/26 11:30 AM EST\n - 01/22/26 01:00 PM EST\Location:\nCentre Club\nUrban Center - 8th Floor of the Parking Garage\nTampa, FL 33609
X-ALT-DESC;FMTTYPE=text/html:BOMA January Luncheon Meeting<br /><br />01/22/26 11:30 AM EST - 01/22/26 01:00 PM EST<br />Location:<br />Centre Club<br />Urban Center - 8th Floor of the Parking Garage<br />Tampa, FL 33609
PRIORITY:3
TRANSP:TRANSPARENT
BEGIN:VALARM
TRIGGER:-PT5M
ACTION:DISPLAY
DESCRIPTION:Reminder
END:VALARM
END:VEVENT
END:VCALENDAR
