BEGIN:VCALENDAR
VERSION:2.0
CALSCALE:GREGORIAN
METHOD:PUBLISH
PRODID://BSTL//466851
BEGIN:VEVENT
DTSTAMP:20260424T111103
VTIMEZONE:America/Chicago
DTSTART:20251211T000000Z
DTEND:20251211T040000Z
UID:466851
SUMMARY:Annual Holiday Party & Awards Presentation
LOCATION:The Reverie , 17089 N Outer 40 Rd., Chesterfield, MO, 63005
DESCRIPTION:Annual Holiday Party & Awards Presentation\n\n12/10/25 06:00 PM CST\n - 12/10/25 10:00 PM CST\Description:\nREGISTRATION CLOSES DEC 2!\nJoin BOMA for its Annual Holiday Party & Awards Presentation at the beautiful Reverie in Chesterfield!  Dress your best and join the party on Wednesday, December 10!\Location:\nThe Reverie \n17089 N Outer 40 Rd.\nChesterfield, MO 63005
X-ALT-DESC;FMTTYPE=text/html:Annual Holiday Party & Awards Presentation<br /><br />12/10/25 06:00 PM CST - 12/10/25 10:00 PM CST<br />Description:<br />REGISTRATION CLOSES DEC 2!<br />
Join BOMA for its Annual Holiday Party &amp; Awards Presentation at the beautiful Reverie in Chesterfield!&nbsp; Dress your best and join the party on Wednesday, December 10!<br />Location:<br />The Reverie <br />17089 N Outer 40 Rd.<br />Chesterfield, MO 63005
PRIORITY:3
TRANSP:TRANSPARENT
BEGIN:VALARM
TRIGGER:-PT5M
ACTION:DISPLAY
DESCRIPTION:Reminder
END:VALARM
END:VEVENT
END:VCALENDAR
