BEGIN:VCALENDAR
VERSION:2.0
CALSCALE:GREGORIAN
METHOD:PUBLISH
PRODID://APS//466173
BEGIN:VEVENT
DTSTAMP:20260422T012529
VTIMEZONE:America/New_York
DTSTART:20251128T150000Z
DTEND:20251128T190000Z
UID:466173
SUMMARY:Framers Lounge Rental
LOCATION:
DESCRIPTION:Framers Lounge Rental\n\n11/28/25 10:00 AM EST\n - 11/28/25 02:00 PM EST\Description:\nThe Framers Lounge and Patio will be rented and unavailable on 11/28 from 10am to 2pm.
X-ALT-DESC;FMTTYPE=text/html:Framers Lounge Rental<br /><br />11/28/25 10:00 AM EST - 11/28/25 02:00 PM EST<br />Description:<br />The Framers Lounge and Patio will be rented and unavailable on 11/28 from 10am to 2pm.
PRIORITY:3
TRANSP:TRANSPARENT
BEGIN:VALARM
TRIGGER:-PT5M
ACTION:DISPLAY
DESCRIPTION:Reminder
END:VALARM
END:VEVENT
END:VCALENDAR
