BEGIN:VCALENDAR
VERSION:2.0
CALSCALE:GREGORIAN
METHOD:PUBLISH
PRODID://APS//466170
BEGIN:VEVENT
DTSTAMP:20260424T000718
VTIMEZONE:America/New_York
DTSTART:20251120T220000Z
DTEND:20251120T230000Z
UID:466170
SUMMARY:MSL Contest 2!
LOCATION:
DESCRIPTION:MSL Contest 2!\n\n11/20/25 05:00 PM EST\n - 11/20/25 06:00 PM EST\Description:\nMember Surf League Event #2!! Performance Progression night on the Advanced Plus Wave at 5pm 11/20.
X-ALT-DESC;FMTTYPE=text/html:MSL Contest 2!<br /><br />11/20/25 05:00 PM EST - 11/20/25 06:00 PM EST<br />Description:<br />Member Surf League Event #2!! Performance Progression night on the Advanced Plus Wave at 5pm 11/20.
PRIORITY:3
TRANSP:TRANSPARENT
BEGIN:VALARM
TRIGGER:-PT5M
ACTION:DISPLAY
DESCRIPTION:Reminder
END:VALARM
END:VEVENT
END:VCALENDAR
