BEGIN:VCALENDAR
VERSION:2.0
CALSCALE:GREGORIAN
METHOD:PUBLISH
PRODID://ARCI//466145
BEGIN:VEVENT
DTSTAMP:20260424T114649
VTIMEZONE:America/Chicago
DTSTART:20251120T153000Z
DTEND:20251120T180000Z
UID:466145
SUMMARY:Oklahoma Horse Racing Commission Meeting
LOCATION:Oklahoma Department of Agriculture , 2800 North Lincoln, Oklahoma City, OK, 73105
DESCRIPTION:Oklahoma Horse Racing Commission Meeting\n\n11/20/25 09:30 AM CST\n - 11/20/25 12:00 PM CST\Location:\nOklahoma Department of Agriculture \n2800 North Lincoln\nOklahoma City, OK 73105
X-ALT-DESC;FMTTYPE=text/html:Oklahoma Horse Racing Commission Meeting<br /><br />11/20/25 09:30 AM CST - 11/20/25 12:00 PM CST<br />Location:<br />Oklahoma Department of Agriculture <br />2800 North Lincoln<br />Oklahoma City, OK 73105
PRIORITY:3
TRANSP:TRANSPARENT
BEGIN:VALARM
TRIGGER:-PT5M
ACTION:DISPLAY
DESCRIPTION:Reminder
END:VALARM
END:VEVENT
END:VCALENDAR
