BEGIN:VCALENDAR
VERSION:2.0
CALSCALE:GREGORIAN
METHOD:PUBLISH
PRODID://ILRW//466083
BEGIN:VEVENT
DTSTAMP:20260421T033121
VTIMEZONE:America/Chicago
DTSTART:20260108T150000Z
DTEND:20260108T211500Z
UID:466083
SUMMARY:Boil Orders/Tank Inspection/Maintenance/Sampling/Sludge Surveys
LOCATION:Grand Tower Community Building, 610 Front Street, Grand Tower, IL, 62942
DESCRIPTION:Boil Orders/Tank Inspection/Maintenance/Sampling/Sludge Surveys\n\n01/08/26 09:00 AM CST\n - 01/08/26 03:15 PM CST\Description:\nThis training session is in conjunction with the District 8 Caucus.\n\nRegistration begins at 9:00 and the training begins at 9:30.\n\nYou MUST return the delegate form as well as the training registration to be able to vote in the caucus.\Location:\nGrand Tower Community Building\n610 Front Street\nGrand Tower, IL 62942
X-ALT-DESC;FMTTYPE=text/html:Boil Orders/Tank Inspection/Maintenance/Sampling/Sludge Surveys<br /><br />01/08/26 09:00 AM CST - 01/08/26 03:15 PM CST<br />Description:<br />This training session is in conjunction with the District 8 Caucus.<br />
<br />
Registration begins at 9:00 and the training begins&nbsp;at 9:30.<br />
<br />
<em><strong>You MUST return the delegate form as well as the training registration to be able to vote in the </strong></em><em><strong>caucus.</strong></em><br />Location:<br />Grand Tower Community Building<br />610 Front Street<br />Grand Tower, IL 62942
PRIORITY:3
TRANSP:TRANSPARENT
BEGIN:VALARM
TRIGGER:-PT5M
ACTION:DISPLAY
DESCRIPTION:Reminder
END:VALARM
END:VEVENT
END:VCALENDAR
