BEGIN:VCALENDAR
VERSION:2.0
CALSCALE:GREGORIAN
METHOD:PUBLISH
PRODID://MWEA//466030
BEGIN:VEVENT
DTSTAMP:20260420T100523
VTIMEZONE:America/New_York
DTSTART:20251218T160000Z
DTEND:20251218T180000Z
UID:466030
SUMMARY:Biosolids Committee - Christmas Lunch
LOCATION:Zehnder's of Frankenmuth (Keeping Room), 730 S Main St, Frankenmuth, MI, 48734
DESCRIPTION:Biosolids Committee - Christmas Lunch\n\n12/18/25 11:00 AM EST\n - 12/18/25 01:00 PM EST\Description:\nMWEA Biosolids Committee Christmas Lunch\n\nWhen: December 18th 2025 at 11:00am\nWhere: Zehnder's of Frankenmuth - 730 S Main St., Frankenmuth, MI 48734 (Keeping Room)\n\Location:\nZehnder's of Frankenmuth (Keeping Room)\n730 S Main St\nFrankenmuth, MI 48734
X-ALT-DESC;FMTTYPE=text/html:Biosolids Committee - Christmas Lunch<br /><br />12/18/25 11:00 AM EST - 12/18/25 01:00 PM EST<br />Description:<br /><p style="text-align: center;"><span style="color:#008000"><strong><span style="font-size:20px">MWEA Biosolids Committee Christmas Lunch</span></strong></span></p>

<p><span style="font-size:16px"><strong>When</strong>:&nbsp;December 18<sup>th</sup> 2025 at 11:00am<br />
<strong>Where</strong>: Zehnder's of Frankenmuth - 730 S Main St., Frankenmuth, MI 48734 (Keeping Room)</span></p>
<br />Location:<br />Zehnder's of Frankenmuth (Keeping Room)<br />730 S Main St<br />Frankenmuth, MI 48734
PRIORITY:3
TRANSP:TRANSPARENT
BEGIN:VALARM
TRIGGER:-PT5M
ACTION:DISPLAY
DESCRIPTION:Reminder
END:VALARM
END:VEVENT
END:VCALENDAR
