BEGIN:VCALENDAR
VERSION:2.0
CALSCALE:GREGORIAN
METHOD:PUBLISH
PRODID://FDIA//465881
BEGIN:VEVENT
DTSTAMP:20260424T001204
VTIMEZONE:America/New_York
DTSTART:20251215T150000Z
DTEND:20251216T200000Z
UID:465881
SUMMARY:2-Day Workshop | Basic Photoshop Workshop: Foundations of Forensic Imaging
LOCATION:https://gapscience.com/webinar-basic-photoshop-workshop-foundations-of-forensic-imaging/, FL
DESCRIPTION:2-Day Workshop | Basic Photoshop Workshop: Foundations of Forensic Imaging\n\n12/15/25 10:00 AM EST\n - 12/16/25 03:00 PM EST\Description:\nInstructor: Meredith Coon\n\nDate: Monday, Dec. 15 & Tuesday, Dec. 16, 2025\n\nTimes: 10:00am – 3:00pm EST on Dec. 15th & 10:00am – 1:00pm EST on Dec. 16th\n\nLocation: Wherever you can login! \n\nTuition Cost: $225.00\n\nInstructor: Meredith Coon\n\nDate: Monday, Dec. 15 & Tuesday, Dec. 16, 2025\n\nTimes: 10:00am – 3:00pm EST on Dec. 15th & 10:00am – 1:00pm EST on Dec. 16th\n\nLocation: Wherever you can login! \n\nTuition Cost: $225.00\n\Details:\nWhether you’re new to Photoshop or need a refresher, this foundational course will guide you through the essential tools and techniques used in digital image editing and management. Designed with practical application in mind, this workshop will give you the confidence to navigate Photoshop effectively while maintaining image integrity and chain of custody—critical skills for forensic, law enforcement, and professional imaging environments.\n\nTopics discussed will include:\n\n\n	Digital Image Storage & Custody\n	File Types\n	Resolution & Calibration\n	Photoshop Orientation\n	Color Modes\n	Contrast Adjustments\n	Orientation & Isolation of Images\n\n\Location:\nhttps://gapscience.com/webinar-basic-photoshop-workshop-foundations-of-forensic-imaging/\n\n, FL
X-ALT-DESC;FMTTYPE=text/html:2-Day Workshop | Basic Photoshop Workshop: Foundations of Forensic Imaging<br /><br />12/15/25 10:00 AM EST - 12/16/25 03:00 PM EST<br />Description:<br /><p><strong>Instructor:&nbsp;</strong>Meredith Coon</p>

<p><strong>Date:</strong>&nbsp;Monday, Dec. 15 &amp; Tuesday, Dec. 16, 2025</p>

<p><strong>Times:</strong>&nbsp;10:00am &ndash; 3:00pm EST on Dec. 15th &amp; 10:00am &ndash; 1:00pm EST on Dec. 16th</p>

<p><strong>Location:</strong>&nbsp;Wherever you can login!&nbsp;</p>

<p><strong>Tuition Cost:</strong>&nbsp;$225.00</p>

<p><strong>Instructor:&nbsp;</strong>Meredith Coon</p>

<p><strong>Date:</strong>&nbsp;Monday, Dec. 15 &amp; Tuesday, Dec. 16, 2025</p>

<p><strong>Times:</strong>&nbsp;10:00am &ndash; 3:00pm EST on Dec. 15th &amp; 10:00am &ndash; 1:00pm EST on Dec. 16th</p>

<p><strong>Location:</strong>&nbsp;Wherever you can login!&nbsp;</p>

<p><strong>Tuition Cost:</strong>&nbsp;$225.00</p>
<br />Details:<br /><p>Whether you&rsquo;re new to Photoshop or need a refresher, this foundational course will guide you through the essential tools and techniques used in digital image editing and management. Designed with practical application in mind, this workshop will give you the confidence to navigate Photoshop effectively while maintaining image integrity and chain of custody&mdash;critical skills for forensic, law enforcement, and professional imaging environments.</p>

<p>Topics discussed will include:</p>

<ul>
	<li>Digital Image Storage &amp; Custody</li>
	<li>File Types</li>
	<li>Resolution &amp; Calibration</li>
	<li>Photoshop Orientation</li>
	<li>Color Modes</li>
	<li>Contrast Adjustments</li>
	<li>Orientation &amp; Isolation of Images</li>
</ul>
<br />Location:<br />https://gapscience.com/webinar-basic-photoshop-workshop-foundations-of-forensic-imaging/<br /><br />, FL 
PRIORITY:3
TRANSP:TRANSPARENT
BEGIN:VALARM
TRIGGER:-PT5M
ACTION:DISPLAY
DESCRIPTION:Reminder
END:VALARM
END:VEVENT
END:VCALENDAR
