BEGIN:VCALENDAR
VERSION:2.0
CALSCALE:GREGORIAN
METHOD:PUBLISH
PRODID://AAFS//465697
BEGIN:VEVENT
DTSTAMP:20260424T061900
VTIMEZONE:Europe/Berlin
DTSTART:20260904T060000Z
DTEND:20260907T150000Z
UID:465697
SUMMARY:9th World One Health Conference - save the dates!
LOCATION:
DESCRIPTION:9th World One Health Conference - save the dates!\n\n09/04/26 08:00 AM MEA\n - 09/07/26 05:00 PM MEA\Description:\nJoin us at the 9th World One Health Congress in Lisbon, Portugal!\n\nIn 2026, the World One Health Congress returns for its ninth edition, bringing together a global community of experts dedicated to advancing One Health science and policy. Over the course of four days, the Congress will feature a dynamic and forward-thinking agenda, with parallel tracks covering One Health science, antimicrobial agents and resistance, and the science-policy interface, among other critical topics.\n\nThis leading international forum will foster discussions on major One Health challenges, facilitate the exchange of cutting-edge research, and highlight policy developments shaping the future of health for humans, animals, and the environment. Through an open call for abstracts, groundbreaking work from distinguished scientists and thought leaders will take center stage.\n\nLet’s keep the momentum going and make the next 9th World One Health Congress in 2026 an even greater success. Together, WE ARE One Health!\n\nJoin global One Health Community mailing list for updates on #WOHC2026\n
X-ALT-DESC;FMTTYPE=text/html:9th World One Health Conference - save the dates!<br /><br />09/04/26 08:00 AM MEA - 09/07/26 05:00 PM MEA<br />Description:<br /><p><strong>Join us at the 9th World One Health Congress in Lisbon, Portugal!</strong></p>

<p>In 2026, the World One Health Congress returns for its ninth edition, bringing together a global community of experts dedicated to advancing One Health science and policy. Over the course of four days, the Congress will feature a dynamic and forward-thinking agenda, with parallel tracks covering One Health science, antimicrobial agents and resistance, and the science-policy interface, among other critical topics.</p>

<p>This leading international forum will foster discussions on major One Health challenges, facilitate the exchange of cutting-edge research, and highlight policy developments shaping the future of health for humans, animals, and the environment. Through an open call for abstracts, groundbreaking work from distinguished scientists and thought leaders will take center stage.</p>

<p>Let&rsquo;s keep the momentum going and make the next 9th World One Health Congress in 2026 an even greater success.&nbsp;<strong>Together, WE ARE One Health!</strong></p>

<p>Join global One Health Community mailing list for updates on #WOHC2026</p>

PRIORITY:3
TRANSP:TRANSPARENT
BEGIN:VALARM
TRIGGER:-PT5M
ACTION:DISPLAY
DESCRIPTION:Reminder
END:VALARM
END:VEVENT
END:VCALENDAR
