BEGIN:VCALENDAR
VERSION:2.0
CALSCALE:GREGORIAN
METHOD:PUBLISH
PRODID://AWEA//465204
BEGIN:VEVENT
DTSTAMP:20260424T112112
VTIMEZONE:America/Chicago
DTSTART:20251113T143000Z
DTEND:20251113T183000Z
UID:465204
SUMMARY:YP - M&H Valve Company Tour
LOCATION:M & H Valve Company, 605 West 23rd Street, Anniston, AL, 36201
DESCRIPTION:YP - M&H Valve Company Tour\n\n11/13/25 08:30 AM CST\n - 11/13/25 12:30 PM CST\Description:\nM&H Valve Company Tour\nDescription: Step inside one of Alabama’s leading manufacturers and see how world-class engineering brings water infrastructure to life!\nDate & Time: November 13th from 8:30AM-12:30PM\nLocation:\nM&H Valve Company\n605 West 23rd Street\nAnniston, AL 36201\n\nRegistration Link: https://forms.office.com/g/e0CEQb5u7r\Location:\nM & H Valve Company\n605 West 23rd Street\nAnniston, AL 36201
X-ALT-DESC;FMTTYPE=text/html:YP - M&H Valve Company Tour<br /><br />11/13/25 08:30 AM CST - 11/13/25 12:30 PM CST<br />Description:<br /><span style="font-size:26px"><strong>M&amp;H Valve Company Tour<br />
Description:&nbsp;</strong>Step inside one of Alabama&rsquo;s leading manufacturers and see how world-class engineering brings water infrastructure to life!<br />
<strong>Date &amp; Time:&nbsp;</strong>November 13<sup>th</sup>&nbsp;from 8:30AM-12:30PM<br />
<strong>Location:</strong><br />
<strong>M&amp;H Valve Company</strong><br />
605 West 23rd Street<br />
Anniston, AL 36201<br />
<br />
<strong>Registration Link:&nbsp;<a data-saferedirecturl="https://www.google.com/url?q=https://forms.office.com/g/e0CEQb5u7r&amp;source=gmail&amp;ust=1762560804671000&amp;usg=AOvVaw3Bc7O98GiXTFG89y11ek8d" href="https://forms.office.com/g/e0CEQb5u7r" id="m_3511865719550454258OWAad66dbed-20e9-bb6d-3c0e-c903705029db" target="_blank">https://forms.office.com/g/<wbr />e0CEQb5u7r</a></strong></span><br />Location:<br />M & H Valve Company<br />605 West 23rd Street<br />Anniston, AL 36201
PRIORITY:3
TRANSP:TRANSPARENT
BEGIN:VALARM
TRIGGER:-PT5M
ACTION:DISPLAY
DESCRIPTION:Reminder
END:VALARM
END:VEVENT
END:VCALENDAR
