BEGIN:VCALENDAR
VERSION:2.0
CALSCALE:GREGORIAN
METHOD:PUBLISH
PRODID://ERWW//465164
BEGIN:VEVENT
DTSTAMP:20260419T230238
VTIMEZONE:America/Los_Angeles
DTSTART:20261103T163000Z
DTEND:20261106T003000Z
UID:465164
SUMMARY:Water Treatment Plant Operator Exam Review (3 days)- Bellingham
LOCATION:
DESCRIPTION:Water Treatment Plant Operator Exam Review (3 days)- Bellingham\n\n11/03/26 08:30 AM PST\n - 11/05/26 04:30 PM PST\Description:\nThis is a 3 day course for applicants preparing for the Water Treatment Plant Operator Certification Exam. The review includes an in depth review on math for the treatment plant operator, water sources and treatment coagulation and flocculation, corrosion control, and overview of plant operation and treatment, softening systems and laboratory procedures. \nTaught by Ernie Klimek, Evergreen Rural Water\n\n1.9 Water Only CEUs \nCosts: $350 ERWoW Members / $425 Non-Members\n\n 
X-ALT-DESC;FMTTYPE=text/html:Water Treatment Plant Operator Exam Review (3 days)- Bellingham<br /><br />11/03/26 08:30 AM PST - 11/05/26 04:30 PM PST<br />Description:<br />This is a 3 day course for applicants preparing for the Water Treatment Plant Operator Certification Exam. The review includes an in depth review on math for the treatment plant operator, water sources and treatment coagulation and flocculation, corrosion control, and overview of plant operation and treatment, softening systems and laboratory procedures.&nbsp;<br />
<em>Taught by Ernie Klimek, Evergreen Rural Water</em><br />
<br />
<span style="font-size:14px">1.9 Water Only CEUs&nbsp;<br />
Costs: $350 ERWoW Members / $425 Non-Members</span><br />
<br />
&nbsp;
PRIORITY:3
TRANSP:TRANSPARENT
BEGIN:VALARM
TRIGGER:-PT5M
ACTION:DISPLAY
DESCRIPTION:Reminder
END:VALARM
END:VEVENT
END:VCALENDAR
