BEGIN:VCALENDAR
VERSION:2.0
CALSCALE:GREGORIAN
METHOD:PUBLISH
PRODID://NVCR//465005
BEGIN:VEVENT
DTSTAMP:20260424T084550
VTIMEZONE:America/Los_Angeles
DTSTART:20251206T020000Z
DTEND:20251206T050000Z
UID:465005
SUMMARY:NVCRA 2025 Holiday Party South
LOCATION:Enchant Las Vegas - Las Vegas Ballpark, 1650 S. Pavilion Center Dr., Las Vegas, NV, 89135
DESCRIPTION:NVCRA 2025 Holiday Party South\n\n12/05/25 06:00 PM PST\n - 12/05/25 09:00 PM PST\Description:\nNVCRA is excited to see you at our 2025 Holiday Party South!\nThis year we gather at Enchant Las Vegas.  We encourage you to bring your spouses, family, friends, and enjoy our private room as you wander through and take in the holiday light display.\nThere will be food in our private room, and members receive their first drink on us.  Cash bar for drinks after the first.\nRegistration/RSVP is required.\nPlease dress appropriately as this is an outdoor event.\nWe're encouraging ugly sweaters - the ugliest wins a prize!\nAs always if you'd like to participate in our annual White Elephant gift exchange, bring a wrapped gift (limit $30).  Those who bring a gift, go home with a gift.\nWe look forward to celebrating with you!\nCheers and Happy Holidays!\Location:\nEnchant Las Vegas - Las Vegas Ballpark\n1650 S. Pavilion Center Dr.\nLas Vegas, NV 89135
X-ALT-DESC;FMTTYPE=text/html:NVCRA 2025 Holiday Party South<br /><br />12/05/25 06:00 PM PST - 12/05/25 09:00 PM PST<br />Description:<br />NVCRA is excited to see you at our 2025 Holiday Party South!<br />
This year we gather at Enchant Las Vegas.&nbsp; We encourage you to bring your spouses, family, friends, and enjoy our private room as you wander through and take in the holiday light display.<br />
There will be food in our private room, and members receive their first drink on us.&nbsp; Cash bar for drinks after the first.<br />
Registration/RSVP is required.<br />
Please dress appropriately as this is an outdoor event.<br />
We're encouraging ugly sweaters - the ugliest wins a prize!<br />
As always if you'd like to participate in our annual White Elephant gift exchange, bring a wrapped gift (limit $30).&nbsp; Those who bring a gift, go home with a gift.<br />
We look forward to celebrating with you!<br />
Cheers and Happy Holidays!<br />Location:<br />Enchant Las Vegas - Las Vegas Ballpark<br />1650 S. Pavilion Center Dr.<br />Las Vegas, NV 89135
PRIORITY:3
TRANSP:TRANSPARENT
BEGIN:VALARM
TRIGGER:-PT5M
ACTION:DISPLAY
DESCRIPTION:Reminder
END:VALARM
END:VEVENT
END:VCALENDAR
