BEGIN:VCALENDAR
VERSION:2.0
CALSCALE:GREGORIAN
METHOD:PUBLISH
PRODID://OWEA//464898
BEGIN:VEVENT
DTSTAMP:20260423T234057
VTIMEZONE:America/New_York
DTSTART:20251107T150000Z
DTEND:20261231T200000Z
UID:464898
SUMMARY:6 Month Webinar Package Pricing 2026
LOCATION:GoToWebinar, OH
DESCRIPTION:6 Month Webinar Package Pricing 2026\n\n11/07/25 10:00 AM EST\n - 12/31/26 03:00 PM EST\Location:\nGoToWebinar\n\n, OH
X-ALT-DESC;FMTTYPE=text/html:6 Month Webinar Package Pricing 2026<br /><br />11/07/25 10:00 AM EST - 12/31/26 03:00 PM EST<br />Location:<br />GoToWebinar<br /><br />, OH 
PRIORITY:3
TRANSP:TRANSPARENT
BEGIN:VALARM
TRIGGER:-PT5M
ACTION:DISPLAY
DESCRIPTION:Reminder
END:VALARM
END:VEVENT
END:VCALENDAR
