BEGIN:VCALENDAR
VERSION:2.0
CALSCALE:GREGORIAN
METHOD:PUBLISH
PRODID://CRWA//464866
BEGIN:VEVENT
DTSTAMP:20260420T223350
VTIMEZONE:America/Denver
DTSTART:20251112T160000Z
DTEND:20251113T000000Z
UID:464866
SUMMARY:Emerging Technology Workshop
LOCATION:Colorado Rural Water Association , 176 West Palmer Lake Drive, Pueblo West , Co, 81007
DESCRIPTION:Emerging Technology Workshop\n\n11/12/25 09:00 AM MST\n - 11/12/25 05:00 PM MST\Description:\nWorkshop Purpose: Vendor and Operator interaction and information. \n\nLUNCH PROVIDED! \n\nMorning Meet & Greet: Vendor and Operator interaction and information. \nExplore live station and connect with exports: \nAsset Management Systems, Cyber Security Maintenance Fund., DHS Cybersecurity Fund., VFDs & PLCs, \nGeographical Information Systems, EPAnet Modeling & Advanced SCADA Applications\n\nAfternoon:\nCybersecurity for Utilities, Energy Efficiency & Operational Optimization, Energy & Water Quality Management, \nDigital Reporting & Storage Solutions, Solar Array Systems Funding Opportunities\n\nSponsored by: \nColorado Rural Water Association \nKelly Stone - Energy Efficiency assessment Technician\Location:\nColorado Rural Water Association \n176 West Palmer Lake Drive\nPueblo West , Co 81007
X-ALT-DESC;FMTTYPE=text/html:Emerging Technology Workshop<br /><br />11/12/25 09:00 AM MST - 11/12/25 05:00 PM MST<br />Description:<br />Workshop Purpose: Vendor and Operator interaction and information.&nbsp;<br />
<br />
LUNCH PROVIDED!&nbsp;<br />
<br />
Morning Meet &amp; Greet:&nbsp;Vendor and Operator interaction and information.&nbsp;<br />
Explore live station and connect with exports:&nbsp;<br />
Asset Management Systems, Cyber Security Maintenance Fund., DHS Cybersecurity Fund., VFDs &amp; PLCs,&nbsp;<br />
Geographical Information Systems, EPAnet Modeling &amp; Advanced SCADA Applications<br />
<br />
Afternoon:<br />
Cybersecurity for Utilities, Energy Efficiency &amp; Operational Optimization, Energy &amp; Water Quality Management,&nbsp;<br />
Digital Reporting &amp; Storage Solutions, Solar Array Systems Funding Opportunities<br />
<br />
Sponsored by:&nbsp;<br />
Colorado Rural Water Association&nbsp;<br />
Kelly Stone - Energy Efficiency assessment Technician<br />Location:<br />Colorado Rural Water Association <br />176 West Palmer Lake Drive<br />Pueblo West , Co 81007
PRIORITY:3
TRANSP:TRANSPARENT
BEGIN:VALARM
TRIGGER:-PT5M
ACTION:DISPLAY
DESCRIPTION:Reminder
END:VALARM
END:VEVENT
END:VCALENDAR
