BEGIN:VCALENDAR
VERSION:2.0
CALSCALE:GREGORIAN
METHOD:PUBLISH
PRODID://AWEA//464848
BEGIN:VEVENT
DTSTAMP:20260423T220725
VTIMEZONE:America/Chicago
DTSTART:20251120T180000Z
DTEND:20251120T190000Z
UID:464848
SUMMARY:YP - Mobile Lunch and Learn: Smarter Filtration
LOCATION:Ben May Main Library: Armbrecht Briskman Meeting Room, 701 Government Street, Mobile, AL, 36602
DESCRIPTION:YP - Mobile Lunch and Learn: Smarter Filtration\n\n11/20/25 12:00 PM CST\n - 11/20/25 01:00 PM CST\Description:\nMobile Lunch and Learn: Smarter Filtration\nDescription: Discover a smarter, simpler way to achieve efficient water filtration.\nDate & Time: November 20th from 12PM-1PM\nLocation:\nBen May Main Library: Armbrecht Briskman Meeting Room\n701 Government Street\nMobile, AL 36602\n\nRegistration Link: https://events.teams.microsoft.com/event/d3f9cbd3-7791-4baf-b434-55295e507fe3@a55cda62-082e-4ec2-8b86-cd7170d993cc\Location:\nBen May Main Library: Armbrecht Briskman Meeting Room\n701 Government Street\nMobile, AL 36602
X-ALT-DESC;FMTTYPE=text/html:YP - Mobile Lunch and Learn: Smarter Filtration<br /><br />11/20/25 12:00 PM CST - 11/20/25 01:00 PM CST<br />Description:<br /><span style="font-size:26px"><strong>Mobile Lunch and Learn: Smarter Filtration<br />
Description:&nbsp;</strong>Discover a smarter, simpler way to achieve efficient water filtration.<br />
<strong>Date &amp; Time:&nbsp;</strong>November 20<sup>th</sup>&nbsp;from 12PM-1PM<br />
<strong>Location:</strong><br />
<strong>Ben May Main Library: Armbrecht Briskman Meeting Room</strong><br />
701 Government Street<br />
Mobile, AL 36602<br />
<br />
<strong>Registration Link:&nbsp;<a data-saferedirecturl="https://www.google.com/url?q=https://events.teams.microsoft.com/event/d3f9cbd3-7791-4baf-b434-55295e507fe3@a55cda62-082e-4ec2-8b86-cd7170d993cc&amp;source=gmail&amp;ust=1762560804671000&amp;usg=AOvVaw1iDysJ3bqDGyZBbbq6qF6v" href="https://events.teams.microsoft.com/event/d3f9cbd3-7791-4baf-b434-55295e507fe3@a55cda62-082e-4ec2-8b86-cd7170d993cc" id="m_3511865719550454258OWAbda696e9-cf8a-2f47-14dc-9cd3435ec53d" target="_blank">https://events.teams.<wbr />microsoft.com/event/d3f9cbd3-<wbr />7791-4baf-b434-55295e507fe3@<wbr />a55cda62-082e-4ec2-8b86-<wbr />cd7170d993cc</a></strong></span><br />Location:<br />Ben May Main Library: Armbrecht Briskman Meeting Room<br />701 Government Street<br />Mobile, AL 36602
PRIORITY:3
TRANSP:TRANSPARENT
BEGIN:VALARM
TRIGGER:-PT5M
ACTION:DISPLAY
DESCRIPTION:Reminder
END:VALARM
END:VEVENT
END:VCALENDAR
