BEGIN:VCALENDAR
VERSION:2.0
CALSCALE:GREGORIAN
METHOD:PUBLISH
PRODID://BSTL//464552
BEGIN:VEVENT
DTSTAMP:20260419T070515
VTIMEZONE:America/Chicago
DTSTART:20260820T163000Z
DTEND:20260820T180000Z
UID:464552
SUMMARY:Monthly Luncheon
LOCATION:
DESCRIPTION:Monthly Luncheon\n\n08/20/26 11:30 AM CST\n - 08/20/26 01:00 PM CST\Description:\nJoin BOMA for its Monthly Luncheon!\Details:\nMore Information Coming Soon!
X-ALT-DESC;FMTTYPE=text/html:Monthly Luncheon<br /><br />08/20/26 11:30 AM CST - 08/20/26 01:00 PM CST<br />Description:<br />Join BOMA for its Monthly Luncheon!<br />Details:<br />More Information Coming Soon!
PRIORITY:3
TRANSP:TRANSPARENT
BEGIN:VALARM
TRIGGER:-PT5M
ACTION:DISPLAY
DESCRIPTION:Reminder
END:VALARM
END:VEVENT
END:VCALENDAR
