BEGIN:VCALENDAR
VERSION:2.0
CALSCALE:GREGORIAN
METHOD:PUBLISH
PRODID://ILFA//464404
BEGIN:VEVENT
DTSTAMP:20260421T095531
VTIMEZONE:America/Chicago
DTSTART:20251107T150000Z
DTEND:20251107T213000Z
UID:464404
SUMMARY:Fall Workshop
LOCATION:Elgin Community College, 1700 Spartan Dr., Elgin, IL, 60123
DESCRIPTION:Fall Workshop\n\n11/07/25 09:00 AM CST\n - 11/07/25 03:30 PM CST\Description:\n\n	\n		\n			The workshop will feature a comprehensive agenda covering several key topics, including a high-level discussion on the implications of the (OBBB) legislation. We will explore how private lenders are preparing for potential increases in private loan borrowing. As well as a session on prioritizing mental health and wellness with an emphasis on practical approaches to support mental health, fostering a supportive environment, and promoting self-care practices essential for sustaining productivity and emotional stability during difficult times.\n			\n			\n			 \n		\n		\n			 \n		\n	\n\n\Location:\nElgin Community College\n1700 Spartan Dr.\nElgin, IL 60123
X-ALT-DESC;FMTTYPE=text/html:Fall Workshop<br /><br />11/07/25 09:00 AM CST - 11/07/25 03:30 PM CST<br />Description:<br /><table border="0" style="width:638px">
	<tbody>
		<tr>
			<td>The workshop will feature a comprehensive agenda covering several key topics, including a high-level discussion on the implications of the (OBBB) legislation. We will explore how private lenders are preparing for potential increases in private loan borrowing. As well as a session on prioritizing mental health and wellness with an emphasis on practical approaches to support mental health, fostering a supportive environment, and promoting self-care practices essential for sustaining productivity and emotional stability during difficult times.<br />
			<br />
			<br />
			&nbsp;</td>
		</tr>
		<tr>
			<td>&nbsp;</td>
		</tr>
	</tbody>
</table>
<br />Location:<br />Elgin Community College<br />1700 Spartan Dr.<br />Elgin, IL 60123
PRIORITY:3
TRANSP:TRANSPARENT
BEGIN:VALARM
TRIGGER:-PT5M
ACTION:DISPLAY
DESCRIPTION:Reminder
END:VALARM
END:VEVENT
END:VCALENDAR
