BEGIN:VCALENDAR
VERSION:2.0
CALSCALE:GREGORIAN
METHOD:PUBLISH
PRODID://MELS//464306
BEGIN:VEVENT
DTSTAMP:20260425T092712
VTIMEZONE:America/Chicago
DTSTART:20251105T190000Z
DTEND:20251107T190000Z
UID:464306
SUMMARY:9th Annual MELS Meeting
LOCATION:Marriott San Antonio Airport, 77 NE Interstate 410 Loop, San Antonio, TX, 78216
DESCRIPTION:9th Annual MELS Meeting\n\n11/05/25 01:00 PM CST\n - 11/07/25 01:00 PM CST\Description:\nThe MELS Annual Meeting is intended to support Learning Specialists in healthcare education at all stages – those just beginning and those who have been offering these types of services for years. This year we are offering a 3-day format. The Annual Meeting will feature a plenary, highlighted speaker, workshops, short communications, table talks, DIG meetings, poster presentations, and networking. In addition to this programming, Wednesday will include a vendor fair with some vendor demonstrations and Thursday will be our annual Social Event. \Location:\nMarriott San Antonio Airport\n77 NE Interstate 410 Loop\nSan Antonio, TX 78216
X-ALT-DESC;FMTTYPE=text/html:9th Annual MELS Meeting<br /><br />11/05/25 01:00 PM CST - 11/07/25 01:00 PM CST<br />Description:<br />The&nbsp;MELS&nbsp;Annual&nbsp;Meeting&nbsp;is intended to support Learning Specialists in healthcare education at all stages &ndash; those just beginning and those who have been offering these types of services&nbsp;for years. This year we are offering a 3-day format. The Annual&nbsp;Meeting&nbsp;will feature a plenary, highlighted speaker, workshops, short communications, table talks, DIG&nbsp;meetings, poster presentations, and networking. In addition to this programming, Wednesday will include a vendor fair with some vendor demonstrations and Thursday will be our annual Social Event.&nbsp;<br />Location:<br />Marriott San Antonio Airport<br />77 NE Interstate 410 Loop<br />San Antonio, TX 78216
PRIORITY:3
TRANSP:TRANSPARENT
BEGIN:VALARM
TRIGGER:-PT5M
ACTION:DISPLAY
DESCRIPTION:Reminder
END:VALARM
END:VEVENT
END:VCALENDAR
