BEGIN:VCALENDAR
VERSION:2.0
CALSCALE:GREGORIAN
METHOD:PUBLISH
PRODID://ALIV//464288
BEGIN:VEVENT
DTSTAMP:20260425T185759
VTIMEZONE:America/New_York
DTSTART:20260121T170000Z
DTEND:20260121T180000Z
UID:464288
SUMMARY:CVA Study Group (Spring 2026)
LOCATION:https://us02web.zoom.us/j/85769241381?pwd=vjIJvsDA0IgtFu8jqo83XalaD4aTLf.1
DESCRIPTION:CVA Study Group (Spring 2026)\n\n01/21/26 12:00 PM EST\n - 01/21/26 01:00 PM EST\Description:\nThe CVA study group is a member benefit from AL!VE open to all AL!VE members preparing for the Spring 2026 exam. \n\nIt will be led by facilitators who have earned their CVA certification. \n\nOn January 21st @ 12 PM EST we will review the study resources and an overview of chapters one and two of the textbook, Volunteer Administration: Professional Practice, 4th edition.\n\nRegister here by January 19th. \Details:\nAfter the introduction session, we will meet every Wednesday at 12:00pm ET for eight weeks from February 4, 2026. The study schedule is based on reading 1-2 chapters of the CVA textbook, discussing those chapters, and reviewing sample scenarios during the calls. \n\nTo participate in the remaining 8 study sessions, you must be an AL!VE member.\Location:\nhttps://us02web.zoom.us/j/85769241381?pwd=vjIJvsDA0IgtFu8jqo83XalaD4aTLf.1\n\n,
X-ALT-DESC;FMTTYPE=text/html:CVA Study Group (Spring 2026)<br /><br />01/21/26 12:00 PM EST - 01/21/26 01:00 PM EST<br />Description:<br />The CVA study group is a member benefit from AL!VE open to all AL!VE members preparing for the Spring 2026 exam.&nbsp;<br />
<br />
It will be led by facilitators who have earned their CVA certification.&nbsp;<br />
<br />
On January 21st @ 12 PM EST we will review the study resources and an overview of chapters one and two of the textbook,&nbsp;<em>Volunteer Administration: Professional Practice, 4th edition.</em><br />
<br />
Register&nbsp;<a href="https://mms.volunteeralive.org/members/form.php?orgcode=ALIV&amp;fid=9417633">here</a>&nbsp;by January 19th.&nbsp;<br />Details:<br />After the introduction session, we will meet every Wednesday at 12:00pm ET for eight weeks from February 4, 2026. The study schedule is based on reading 1-2 chapters of the CVA textbook, discussing those chapters, and reviewing sample scenarios during the calls.&nbsp;<br />
<br />
To participate in the remaining 8 study sessions, you must be an AL!VE member.<br />Location:<br />https://us02web.zoom.us/j/85769241381?pwd=vjIJvsDA0IgtFu8jqo83XalaD4aTLf.1<br /><br />,  
PRIORITY:3
TRANSP:TRANSPARENT
BEGIN:VALARM
TRIGGER:-PT5M
ACTION:DISPLAY
DESCRIPTION:Reminder
END:VALARM
END:VEVENT
END:VCALENDAR
