BEGIN:VCALENDAR
VERSION:2.0
CALSCALE:GREGORIAN
METHOD:PUBLISH
PRODID://AWEA//464000
BEGIN:VEVENT
DTSTAMP:20260423T161327
VTIMEZONE:America/Chicago
DTSTART:20251118T160000Z
DTEND:20251118T170000Z
UID:464000
SUMMARY:AWEA Monthly Meeting via Teams
LOCATION:
DESCRIPTION:AWEA Monthly Meeting via Teams\n\n11/18/25 10:00 AM CST\n - 11/18/25 11:00 AM CST\Description:\nThe Teams link for this online meeting is:  Join conversation\n\nMembers and guests are welcome!
X-ALT-DESC;FMTTYPE=text/html:AWEA Monthly Meeting via Teams<br /><br />11/18/25 10:00 AM CST - 11/18/25 11:00 AM CST<br />Description:<br /><strong><span style="font-size:28px">The Teams link for this online meeting is:&nbsp;&nbsp;<a href="https://teams.microsoft.com/dl/launcher/launcher.html?url=%2F_%23%2Fl%2Fmeetup-join%2F19%3Ameeting_NGI3ZGE2YjctMzU0MS00MTlhLWIxM2ItZjYxNWU1NmMxNTgw%40thread.v2%2F0%3Fcontext%3D%257b%2522Tid%2522%253a%25229ce1b59e-997e-4cc0-aed6-cc29387c0f82%2522%252c%2522Oid%2522%253a%25225f26b36d-adb4-4f95-b1bd-c94747a85d61%2522%257d%26anon%3Dtrue&amp;type=meetup-join&amp;deeplinkId=225fc7b0-d0ae-43cd-9e68-6c9d0f59c18a&amp;directDl=true&amp;msLaunch=true&amp;enableMobilePage=true&amp;suppressPrompt=true">Join conversation</a><br />
<br />
Members and guests are welcome!</span></strong>
PRIORITY:3
TRANSP:TRANSPARENT
BEGIN:VALARM
TRIGGER:-PT5M
ACTION:DISPLAY
DESCRIPTION:Reminder
END:VALARM
END:VEVENT
END:VCALENDAR
