BEGIN:VCALENDAR
VERSION:2.0
CALSCALE:GREGORIAN
METHOD:PUBLISH
PRODID://TPA//463402
BEGIN:VEVENT
DTSTAMP:20260424T094453
VTIMEZONE:America/New_York
DTSTART:20251120T190000Z
DTEND:20251120T200000Z
UID:463402
SUMMARY:Go From Chaos to Clarity With Relias Compliance Management (Relias) 
LOCATION:
DESCRIPTION:Go From Chaos to Clarity With Relias Compliance Management (Relias) \n\n11/20/25 02:00 PM EST\n - 11/20/25 03:00 PM EST\Description:\n\nStaying compliant in healthcare shouldn’t feel overwhelming. But with evolving regulations, manual tracking, and siloed systems, it often does — until now. Join Relias for a live, interactive demo of our Compliance Management Pro Suite, designed to take the guesswork, stress, and risk out of compliance. You’ll see firsthand how our solution centralizes policies, automates tracking and reporting, and provides clear visibility into compliance readiness — so your team can focus on what truly matters: delivering quality care with confidence.\n\n \n\nWhether you lead HR, compliance, learning and development, or administration, you’ll discover how to bring clarity, control, and peace of mind back into your organization’s compliance process.\n\nLearning objectives:\n\nIn this hour-long session, you will learn how to:\n\n\n	Simplify compliance workflows by automating tracking, reminders, and reporting.\n	Reduce organizational risk with real-time visibility into compliance gaps and progress.\n	Eliminate compliance stress by unifying learning, policy, and audit readiness in one easy-to-use platform.\n	Empower leaders and staff to stay compliant with intuitive tools and actionable insights.\n\n\nIf you cannot attend the live webinar, we still encourage you to register, as all registrants will receive an email with a link to the recording and resources.\n\nClick here to Register\n
X-ALT-DESC;FMTTYPE=text/html:Go From Chaos to Clarity With Relias Compliance Management (Relias) <br /><br />11/20/25 02:00 PM EST - 11/20/25 03:00 PM EST<br />Description:<br /><meta charset="UTF-8" />
<p>Staying compliant in healthcare shouldn&rsquo;t feel overwhelming. But with evolving regulations, manual tracking, and siloed systems, it often does &mdash; until now. Join Relias for a live, interactive demo of our Compliance Management Pro Suite, designed to take the guesswork, stress, and risk out of compliance. You&rsquo;ll see firsthand how our solution centralizes policies, automates tracking and reporting, and provides clear visibility into compliance readiness &mdash; so your team can focus on what truly matters: delivering quality care with confidence.</p>

<p>&nbsp;</p>

<p>Whether you lead HR, compliance, learning and development, or administration, you&rsquo;ll discover how to bring clarity, control, and peace of mind back into your organization&rsquo;s compliance process.</p>

<p><strong>Learning objectives:</strong></p>

<p><em>In this hour-long session, you will learn how to:</em></p>

<ul>
	<li>Simplify compliance workflows by automating tracking, reminders, and reporting.</li>
	<li>Reduce organizational risk with real-time visibility into compliance gaps and progress.</li>
	<li>Eliminate compliance stress by unifying learning, policy, and audit readiness in one easy-to-use platform.</li>
	<li>Empower leaders and staff to stay compliant with intuitive tools and actionable insights.</li>
</ul>

<p><em>If you cannot attend the live webinar, we still encourage you to register, as all registrants will receive an email with a link to the recording and resources.</em><br />
<br />
<a href="https://webinars.relias.com/relias/rel-from-chaos-to-clarity-relias-compliance-management?utm_source=pardot&amp;utm_medium=email&amp;utm_content=grc&amp;utm_campaign=701RM00000bEC2PYAW">Click here to Register</a></p>

PRIORITY:3
TRANSP:TRANSPARENT
BEGIN:VALARM
TRIGGER:-PT5M
ACTION:DISPLAY
DESCRIPTION:Reminder
END:VALARM
END:VEVENT
END:VCALENDAR
