BEGIN:VCALENDAR
VERSION:2.0
CALSCALE:GREGORIAN
METHOD:PUBLISH
PRODID://OWEA//463128
BEGIN:VEVENT
DTSTAMP:20260419T101429
VTIMEZONE:America/New_York
DTSTART:20251120T130000Z
DTEND:20251120T210000Z
UID:463128
SUMMARY:SWOWEA November Plant Ops Seminar & Section Meeting
LOCATION:Manor House Banquet & Conference Center , 7440 Mason-Montgomery Rd. , Mason, OH, 45040
DESCRIPTION:SWOWEA November Plant Ops Seminar & Section Meeting\n\n11/20/25 08:00 AM EST\n - 11/20/25 04:00 PM EST\Description:\nFlyer\Location:\nManor House Banquet & Conference Center \n7440 Mason-Montgomery Rd. \nMason, OH 45040
X-ALT-DESC;FMTTYPE=text/html:SWOWEA November Plant Ops Seminar & Section Meeting<br /><br />11/20/25 08:00 AM EST - 11/20/25 04:00 PM EST<br />Description:<br /><a href="https://www.ohiowea.org/docs/2025_Nov_Seminar_Flyer.pdf">Flyer</a><br />Location:<br />Manor House Banquet & Conference Center <br />7440 Mason-Montgomery Rd. <br />Mason, OH 45040
PRIORITY:3
TRANSP:TRANSPARENT
BEGIN:VALARM
TRIGGER:-PT5M
ACTION:DISPLAY
DESCRIPTION:Reminder
END:VALARM
END:VEVENT
END:VCALENDAR
