BEGIN:VCALENDAR
VERSION:2.0
CALSCALE:GREGORIAN
METHOD:PUBLISH
PRODID://ERWW//463074
BEGIN:VEVENT
DTSTAMP:20260423T190719
VTIMEZONE:America/Los_Angeles
DTSTART:20251119T210000Z
DTEND:20251120T010000Z
UID:463074
SUMMARY:Confined Space Entry: Requirements & Regulations- Shelton
LOCATION:ERWoW Office, 11840 North US Highway 101, Shelton, WA, 98584
DESCRIPTION:Confined Space Entry: Requirements & Regulations- Shelton\n\n11/19/25 01:00 PM PST\n - 11/19/25 05:00 PM PST\Description:\nThere are many confined spaces in a water system including vaults and storage tanks. Proper safety procedures ensure that the water system personnel are not exposed to unnecessary risks when performing maintenance in these places.\nTaught by Jeff Wrye with Oxarc\n\nCEUs: 0.4 Water/Wastewater\nCosts: $100 Members \n$130 Non Members\n$0 for Enhanced Members\nAll disciplines: Apprenticeship Year 1 / QUEST\n4 hours\n\Location:\nERWoW Office\n11840 North US Highway 101\nShelton, WA 98584
X-ALT-DESC;FMTTYPE=text/html:Confined Space Entry: Requirements & Regulations- Shelton<br /><br />11/19/25 01:00 PM PST - 11/19/25 05:00 PM PST<br />Description:<br /><p><span style="font-size:14px">There are many confined spaces in a water system including vaults and storage tanks. Proper safety procedures ensure that the water system personnel are not exposed to unnecessary risks when performing maintenance in these places.</span><br />
<span style="font-family:arial,helvetica,sans-serif"><span style="font-size:14px"><em>Taught by Jeff Wrye with Oxarc</em><br />
<br />
CEUs: 0.4 Water/Wastewater<br />
Costs: $100 Members&nbsp;<br />
$130 Non Members<br />
$0 for Enhanced Members<br />
All disciplines: Apprenticeship&nbsp;Year 1 / QUEST<br />
4 hours</span></span></p>
<br />Location:<br />ERWoW Office<br />11840 North US Highway 101<br />Shelton, WA 98584
PRIORITY:3
TRANSP:TRANSPARENT
BEGIN:VALARM
TRIGGER:-PT5M
ACTION:DISPLAY
DESCRIPTION:Reminder
END:VALARM
END:VEVENT
END:VCALENDAR
