BEGIN:VCALENDAR
VERSION:2.0
CALSCALE:GREGORIAN
METHOD:PUBLISH
PRODID://TPA//462751
BEGIN:VEVENT
DTSTAMP:20260423T043234
VTIMEZONE:America/New_York
DTSTART:20251113T150000Z
DTEND:20251113T160000Z
UID:462751
SUMMARY:Medicare in 2026 Webinar (PA Health Law Project)
LOCATION:
DESCRIPTION:Medicare in 2026 Webinar (PA Health Law Project)\n\n11/13/25 10:00 AM EST\n - 11/13/25 11:00 AM EST\Description:\nJoin PHLP for a free webinar about upcoming changes to Medicare in 2026. The target audience for the webinar is people who work with or care for people on Medicare. Medicare beneficiaries are also welcome to attend. During the webinar, presenters will discuss:\n\n	Medicare coverage options and costs in 2026\n	Medicare updates and important changes for the 2026 plan year\n	Programs that help with Medicare costs\n\nPresenters:\n\n\n	Katy McKee, Supervising Attorney, PHLP\n	Jessica Lippert, Paralegal, PHLP\n\nIf you have any questions, please email Katy McKee (kmckee@phlp.org) or Jessica Lippert (jlippert@phlp.org).\n\nClick here to Register
X-ALT-DESC;FMTTYPE=text/html:Medicare in 2026 Webinar (PA Health Law Project)<br /><br />11/13/25 10:00 AM EST - 11/13/25 11:00 AM EST<br />Description:<br />Join PHLP for a free webinar about upcoming changes to Medicare in 2026. The target audience for the webinar is people who work with or care for people on Medicare.&nbsp;Medicare beneficiaries are also welcome to attend. During the webinar, presenters will discuss:
<ul>
	<li>Medicare coverage options and costs in 2026</li>
	<li>Medicare updates and important changes for the 2026 plan year</li>
	<li>Programs that help with Medicare costs</li>
</ul>
Presenters:

<ul>
	<li>Katy McKee, Supervising Attorney, PHLP</li>
	<li>Jessica Lippert, Paralegal, PHLP</li>
</ul>
If you have any questions, please email Katy McKee (<a href="mailto:kmckee@phlp.org" target="_blank" title="mailto:kmckee@phlp.org">kmckee@phlp.org</a>) or Jessica Lippert (<a href="mailto:jlippert@phlp.org" target="_blank" title="mailto:jlippert@phlp.org">jlippert@phlp.org</a>).<br />
<br />
<a href="https://us02web.zoom.us/webinar/register/3717588128480/WN_mWksb_h7TxmP8ZR3y5URUQ?utm_source=PHLP+eNews&amp;utm_campaign=7ce1616dd1-EMAIL_CAMPAIGN_2024_02_26_06_13_COPY_01&amp;utm_medium=email&amp;utm_term=0_-85e1d577f8-1449586017#/registration">Click here to Register</a>
PRIORITY:3
TRANSP:TRANSPARENT
BEGIN:VALARM
TRIGGER:-PT5M
ACTION:DISPLAY
DESCRIPTION:Reminder
END:VALARM
END:VEVENT
END:VCALENDAR
