BEGIN:VCALENDAR
VERSION:2.0
CALSCALE:GREGORIAN
METHOD:PUBLISH
PRODID://MWEA//462724
BEGIN:VEVENT
DTSTAMP:20260420T071531
VTIMEZONE:America/New_York
DTSTART:20251212T160000Z
DTEND:20251212T180000Z
UID:462724
SUMMARY:Local Section 7 - Christmas Celebration
LOCATION:World Buffet & Grill, 5002 W. Saginaw Hwy, Lansing, MI, 48917
DESCRIPTION:Local Section 7 - Christmas Celebration\n\n12/12/25 11:00 AM EST\n - 12/12/25 01:00 PM EST\Description:\nMWEA Section 7 Christmas Celebration\n\nPlease come join us for some great food and Christmas cheer!!\n\n\nWhen:  December 12th 2025 at 11:00am\nWhere:  World Buffet & Grill\n                5002 W. Saginaw\n                Lansing, MI  48917\nCost:  $20.00 / person – payment can be made at the door.\n\nRegistration includes a lucky ticket for your choice of a variety of special prizes, along with a grand prize chosen by Santa himself!\n\n \n\nPLEASE RSVP BY DECEMBER 10th to Matt Griffith: mgriffith@charlottemi.org or (517)231-2324.\n\Location:\nWorld Buffet & Grill\n5002 W. Saginaw Hwy\nLansing, MI 48917
X-ALT-DESC;FMTTYPE=text/html:Local Section 7 - Christmas Celebration<br /><br />12/12/25 11:00 AM EST - 12/12/25 01:00 PM EST<br />Description:<br /><p style="text-align: center;"><strong><span style="font-size:20px">MWEA Section 7&nbsp;Christmas Celebration</span></strong></p>

<p style="text-align: center;"><span style="font-size:16px">Please come join us for some great food and Christmas cheer!!</span></p>

<p><br />
<span style="font-size:16px">When:&nbsp; December 12<sup>th</sup> 2025 at 11:00am<br />
Where: &nbsp;World Buffet &amp; Grill<br />
&nbsp;&nbsp;&nbsp;&nbsp;&nbsp;&nbsp;&nbsp;&nbsp;&nbsp;&nbsp;&nbsp;&nbsp;&nbsp;&nbsp;&nbsp; 5002 W. Saginaw<br />
&nbsp;&nbsp;&nbsp;&nbsp;&nbsp;&nbsp;&nbsp;&nbsp;&nbsp;&nbsp;&nbsp;&nbsp;&nbsp;&nbsp;&nbsp; Lansing, MI&nbsp; 48917<br />
<span style="text-align:center">Cost:&nbsp; $20.00 / person &ndash; payment can be made at the door.</span></span></p>

<h2 style="text-align: center;"><strong><span style="font-size:18px">Registration includes a lucky ticket for your choice of a variety of special prizes, along with a grand prize chosen by Santa himself!</span></strong></h2>

<p>&nbsp;</p>

<p style="text-align: center;"><span style="font-size:16px">PLEASE RSVP BY DECEMBER 10th to Matt Griffith:&nbsp;<a href="mailto:mgriffith@charlottemi.org">mgriffith@charlottemi.org</a> or&nbsp;(517)231-2324.</span></p>
<br />Location:<br />World Buffet & Grill<br />5002 W. Saginaw Hwy<br />Lansing, MI 48917
PRIORITY:3
TRANSP:TRANSPARENT
BEGIN:VALARM
TRIGGER:-PT5M
ACTION:DISPLAY
DESCRIPTION:Reminder
END:VALARM
END:VEVENT
END:VCALENDAR
