BEGIN:VCALENDAR
VERSION:2.0
CALSCALE:GREGORIAN
METHOD:PUBLISH
PRODID://RMAS//461964
BEGIN:VEVENT
DTSTAMP:20260419T230802
VTIMEZONE:America/Chicago
DTSTART:20260421T130000Z
DTEND:20260422T220000Z
UID:461964
SUMMARY:NDASFAA Spring Conference 2026
LOCATION:
DESCRIPTION:NDASFAA Spring Conference 2026\n\n04/21/26 08:00 AM CST\n - 04/22/26 05:00 PM CST\Description:\nGrand Forks, ND. April 21-22, 2026
X-ALT-DESC;FMTTYPE=text/html:NDASFAA Spring Conference 2026<br /><br />04/21/26 08:00 AM CST - 04/22/26 05:00 PM CST<br />Description:<br />Grand Forks, ND. April 21-22, 2026
PRIORITY:3
TRANSP:TRANSPARENT
BEGIN:VALARM
TRIGGER:-PT5M
ACTION:DISPLAY
DESCRIPTION:Reminder
END:VALARM
END:VEVENT
END:VCALENDAR
