BEGIN:VCALENDAR
VERSION:2.0
CALSCALE:GREGORIAN
METHOD:PUBLISH
PRODID://ERWW//461414
BEGIN:VEVENT
DTSTAMP:20260423T060623
VTIMEZONE:America/Los_Angeles
DTSTART:20251028T153000Z
DTEND:20251028T220000Z
UID:461414
SUMMARY:Lagoons: Understanding the Operations and Maintenance- CANCELLED
LOCATION:
DESCRIPTION:Lagoons: Understanding the Operations and Maintenance- CANCELLED\n\n10/28/25 08:30 AM PST\n - 10/28/25 03:00 PM PST\Description:\nCANCELLED DUE TO LOW ATTENDANCE\nLearn the basics of operation and maintenance for lagoon systems. This course will discuss the food web and nutrient cycles throughout the limited control treatment of the lagoon system and cover understanding the different zones, biology, and chemistry within the lagoon.\nTaught by John Schwartz with USABlueBook\n\nCEUs: 0.5 Wastewater Only (pending approval)\nCosts: Members- $160\nNon Members- $190\nEnhanced Members- $0\n*Virtual Class using ZOOM\n 
X-ALT-DESC;FMTTYPE=text/html:Lagoons: Understanding the Operations and Maintenance- CANCELLED<br /><br />10/28/25 08:30 AM PST - 10/28/25 03:00 PM PST<br />Description:<br /><span style="color:#FF0000">CANCELLED DUE TO LOW ATTENDANCE</span><br />
Learn the basics of operation and maintenance for lagoon systems. This course will discuss the food web and nutrient cycles throughout the limited control treatment of the lagoon system and cover understanding the different zones, biology, and chemistry within the lagoon.<br />
<em>Taught by John Schwartz with USABlueBook</em><br />
<br />
CEUs: 0.5 Wastewater Only (pending approval)<br />
Costs: Members- $160<br />
Non Members- $190<br />
Enhanced Members- $0<br />
*Virtual Class using ZOOM<br />
&nbsp;
PRIORITY:3
TRANSP:TRANSPARENT
BEGIN:VALARM
TRIGGER:-PT5M
ACTION:DISPLAY
DESCRIPTION:Reminder
END:VALARM
END:VEVENT
END:VCALENDAR
