BEGIN:VCALENDAR
VERSION:2.0
CALSCALE:GREGORIAN
METHOD:PUBLISH
PRODID://BSTL//461364
BEGIN:VEVENT
DTSTAMP:20260423T190619
VTIMEZONE:America/Chicago
DTSTART:20251119T180000Z
DTEND:20251119T190000Z
UID:461364
SUMMARY:WEBINAR: Understanding the BOMA 2025 Retail Standard
LOCATION:
DESCRIPTION:WEBINAR: Understanding the BOMA 2025 Retail Standard\n\n11/19/25 12:00 PM CST\n - 11/19/25 01:00 PM CST\Description:\nThis live webcast offers a high-level overview of the Retail Standard’s history, its practical use in defining and categorizing retail space boundaries, and the latest updates that professionals need to know.
X-ALT-DESC;FMTTYPE=text/html:WEBINAR: Understanding the BOMA 2025 Retail Standard<br /><br />11/19/25 12:00 PM CST - 11/19/25 01:00 PM CST<br />Description:<br />This live webcast offers a high-level overview of the Retail Standard&rsquo;s history, its practical use in defining and categorizing retail space boundaries, and the latest updates that professionals need to know.
PRIORITY:3
TRANSP:TRANSPARENT
BEGIN:VALARM
TRIGGER:-PT5M
ACTION:DISPLAY
DESCRIPTION:Reminder
END:VALARM
END:VEVENT
END:VCALENDAR
