BEGIN:VCALENDAR
VERSION:2.0
CALSCALE:GREGORIAN
METHOD:PUBLISH
PRODID://ILTE//460897
BEGIN:VEVENT
DTSTAMP:20260421T182056
VTIMEZONE:America/Chicago
DTSTART:20251018T133000Z
DTEND:20251018T200000Z
UID:460897
SUMMARY:2025 Fall Virtual Workshop
LOCATION:Zoom
DESCRIPTION:2025 Fall Virtual Workshop\n\n10/18/25 08:30 AM CST\n - 10/18/25 03:00 PM CST\Description:\n\nTheme: Evolving Voices in TESOL: Advocating for our Profession and our Learners\n\nOctober 18, 2025\n\nThis year’s theme is Evolving Voices in TESOL: Advocating for our Profession and our Learners. Presenters and attendees are encouraged to expand their skill sets as they envision the future of multilingual education.\n\nThe virtual workshop will take place virtually on October 18 from 8:30AM - 3:00PM, beginning at 8:30 am with a Meet and Greet and wrapping up at 3:00 pm with a closing session and raffle. Throughout the day, we’ll also host Special Interest Group (SIG) meetings from 12:30 to 1:00 pm. Attendees can earn up to 5.5 Professional Development Hours, based on participation in each session.\n\nWe can’t wait to “see” you at the workshop!\n\n\n\Location:\nZoom\n\n,
X-ALT-DESC;FMTTYPE=text/html:2025 Fall Virtual Workshop<br /><br />10/18/25 08:30 AM CST - 10/18/25 03:00 PM CST<br />Description:<br /><div style="text-align: center;"><meta charset="utf-8" />
<h1 dir="ltr"><span style="color:#0000FF"><strong id="docs-internal-guid-87208261-7fff-572f-a4f6-429b11464ca3">Theme: Evolving Voices in TESOL: Advocating for our Profession and our Learners</strong></span></h1>

<h1 dir="ltr"><span style="color:#DAA520"><strong id="docs-internal-guid-87208261-7fff-572f-a4f6-429b11464ca3">October 18, 2025</strong></span></h1>

<div dir="ltr" style="text-align: left;"><span style="font-size:16px"><strong>This year&rsquo;s theme is <span style="background-color:#FFFF00">Evolving Voices in TESOL: Advocating for our Profession and our Learners</span>. Presenters and attendees are encouraged to expand their skill sets as they envision the future of multilingual education.</strong></span>

<p dir="ltr"><span style="font-size:16px"><strong>The virtual workshop will&nbsp;take place virtually on <span style="background-color:#FFFF00">October 18 from 8:30AM - 3:00PM</span>, beginning at 8:30 am with a Meet and Greet and wrapping up at 3:00 pm with a closing session and raffle. Throughout the day, we&rsquo;ll also host Special Interest Group (SIG) meetings from 12:30 to 1:00 pm. Attendees can earn up to 5.5 Professional Development Hours, based on participation in each session.</strong></span></p>

<p dir="ltr"><span style="font-size:16px"><strong>We can&rsquo;t wait to &ldquo;see&rdquo; you at the workshop!</strong></span></p>
</div>
</div>
<br />Location:<br />Zoom<br /><br />,  
PRIORITY:3
TRANSP:TRANSPARENT
BEGIN:VALARM
TRIGGER:-PT5M
ACTION:DISPLAY
DESCRIPTION:Reminder
END:VALARM
END:VEVENT
END:VCALENDAR
