BEGIN:VCALENDAR
VERSION:2.0
CALSCALE:GREGORIAN
METHOD:PUBLISH
PRODID://TPA//460606
BEGIN:VEVENT
DTSTAMP:20260420T102935
VTIMEZONE:America/New_York
DTSTART:20251030T180000Z
DTEND:20251030T190000Z
UID:460606
SUMMARY:The Spiral of a Diabetic Wound (Relias) 
LOCATION:
DESCRIPTION:The Spiral of a Diabetic Wound (Relias) \n\n10/30/25 02:00 PM EST\n - 10/30/25 03:00 PM EST\Description:\nJoin Relias to sharpen your instincts, act faster, and strengthen your diabetic wound outcomes.\n\nYou’ll walk away ready to:\n\n\n	Spot the earliest signs of diabetic foot ulcers before they escalate into irreversible damage.\n	Break the cycle of delayed intervention with proven, prevention-first strategies across care settings.\n	Choose the right dressings, devices, and offloading tools to improve outcomes and control costs.\n	Engage patients with empathy and confidence through trauma-informed, culturally responsive care.\n	Strengthen your entire care team by understanding how certification drives better outcomes, fewer readmissions, and stronger coordination.\n\n\nIn this live webinar event, step into a clinical thriller unfolding every day across hospitals, clinics, long-term care, and home health facilities. Follow the trajectory of a diabetic wound from early warning signs to worst-case outcomes and discover how prevention, smart intervention, and certification can stop the nightmare before it begins.\n\nClick here to Register\n
X-ALT-DESC;FMTTYPE=text/html:The Spiral of a Diabetic Wound (Relias) <br /><br />10/30/25 02:00 PM EST - 10/30/25 03:00 PM EST<br />Description:<br /><p>Join Relias to sharpen your instincts, act faster, and strengthen your diabetic wound outcomes.<br />
<br />
<strong>You&rsquo;ll walk away ready to:</strong></p>

<ul>
	<li>Spot the earliest signs of diabetic foot ulcers before they escalate into irreversible damage.</li>
	<li>Break the cycle of delayed intervention with proven, prevention-first strategies across care settings.</li>
	<li>Choose the right dressings, devices, and offloading tools to improve outcomes and control costs.</li>
	<li>Engage patients with empathy and confidence through trauma-informed, culturally responsive care.</li>
	<li>Strengthen your entire care team by understanding how certification drives better outcomes, fewer readmissions, and stronger coordination.</li>
</ul>

<p>In this live webinar event, step into a clinical thriller unfolding every day across hospitals, clinics, long-term care, and home health facilities. Follow the trajectory of a diabetic wound from early warning signs to worst-case outcomes and discover how prevention, smart intervention, and certification can stop the nightmare before it begins.<br />
<br />
<a href="https://webinars.relias.com/relias/pac-hallowound-3-wound-care?utm_source=pardot&amp;utm_medium=email&amp;utm_campaign=701RM00000ZadRlYAJ">Click here to Register</a></p>

PRIORITY:3
TRANSP:TRANSPARENT
BEGIN:VALARM
TRIGGER:-PT5M
ACTION:DISPLAY
DESCRIPTION:Reminder
END:VALARM
END:VEVENT
END:VCALENDAR
