BEGIN:VCALENDAR
VERSION:2.0
CALSCALE:GREGORIAN
METHOD:PUBLISH
PRODID://ERWW//460549
BEGIN:VEVENT
DTSTAMP:20260424T010804
VTIMEZONE:America/Los_Angeles
DTSTART:20251104T170000Z
DTEND:20251105T000000Z
UID:460549
SUMMARY:Source Water, Intakes & Reservoirs - Virtual
LOCATION:Virtual
DESCRIPTION:Source Water, Intakes & Reservoirs - Virtual\n\n11/04/25 09:00 AM PST\n - 11/04/25 04:00 PM PST\Description:\nThis class introduces the operator to different types of source water and intake structures used to begin the treatment processes.\nTaught by Jason White\n\nCEUS: 0.6 Water\nCosts: $160 Members\n$190 Non Members\nNo cost for Enhanced Members\nWTPO: Apprenticeship Year 1 / QUEST\n6 hours\n\Location:\nVirtual\n\n,
X-ALT-DESC;FMTTYPE=text/html:Source Water, Intakes & Reservoirs - Virtual<br /><br />11/04/25 09:00 AM PST - 11/04/25 04:00 PM PST<br />Description:<br /><p><span style="font-family:arial,helvetica,sans-serif"><span style="font-size:14px">This class introduces the operator to different types of source water and intake structures used to begin the treatment processes.<br />
<em>Taught by Jason White</em><br />
<br />
CEUS: 0.6 Water<br />
Costs: $160 Members<br />
$190 Non Members<br />
No cost for Enhanced Members</span></span><br />
<span style="font-family:arial,helvetica,sans-serif"><span style="font-size:14px">WTPO: Apprenticeship&nbsp;Year 1 / QUEST<br />
6 hours</span></span></p>
<br />Location:<br />Virtual<br /><br />,  
PRIORITY:3
TRANSP:TRANSPARENT
BEGIN:VALARM
TRIGGER:-PT5M
ACTION:DISPLAY
DESCRIPTION:Reminder
END:VALARM
END:VEVENT
END:VCALENDAR
