BEGIN:VCALENDAR
VERSION:2.0
CALSCALE:GREGORIAN
METHOD:PUBLISH
PRODID://OWEA//460195
BEGIN:VEVENT
DTSTAMP:20260423T142601
VTIMEZONE:America/New_York
DTSTART:20251029T121500Z
DTEND:20251029T201500Z
UID:460195
SUMMARY:2025 OWEA Watershed Workshop
LOCATION:Del-Co Wolf Water Center, 6685 Olentangy River Rd, Delaware, OH, 43015
DESCRIPTION:2025 OWEA Watershed Workshop\n\n10/29/25 08:15 AM EST\n - 10/29/25 04:15 PM EST\Location:\nDel-Co Wolf Water Center\n6685 Olentangy River Rd\nDelaware, OH 43015
X-ALT-DESC;FMTTYPE=text/html:2025 OWEA Watershed Workshop<br /><br />10/29/25 08:15 AM EST - 10/29/25 04:15 PM EST<br />Location:<br />Del-Co Wolf Water Center<br />6685 Olentangy River Rd<br />Delaware, OH 43015
PRIORITY:3
TRANSP:TRANSPARENT
BEGIN:VALARM
TRIGGER:-PT5M
ACTION:DISPLAY
DESCRIPTION:Reminder
END:VALARM
END:VEVENT
END:VCALENDAR
