BEGIN:VCALENDAR
VERSION:2.0
CALSCALE:GREGORIAN
METHOD:PUBLISH
PRODID://TPA//459588
BEGIN:VEVENT
DTSTAMP:20260420T150406
VTIMEZONE:America/New_York
DTSTART:20251020T170000Z
DTEND:20251020T180000Z
UID:459588
SUMMARY:Recognizing and Treating Constipation in Individuals with I/DD (StationMD) 
LOCATION:
DESCRIPTION:Recognizing and Treating Constipation in Individuals with I/DD (StationMD) \n\n10/20/25 01:00 PM EST\n - 10/20/25 02:00 PM EST\Description:\nJoin StationMD for the next  Pennsylvania webinar, which qualifies for one Training Hour, to explore the critical topic Constipation in I/DD: Recognition, Risks, and Treatment. The session will feature a presentation by Dr. Matthew Kaufman, cofounder and CEO of StationMD. Dr. Kaufman will discuss how constipation affects individuals with intellectual and developmental disabilities, the risks it poses, and effective approaches to recognition and treatment. The webinar will also include general information about the STAT Waiver service in Pennsylvania and provide time for audience Q&A. Participants who wish to receive a certificate for their training hour must register in advance using the link provided below. Please feel free to share this invitation with colleagues and partners who may benefit from attending. \n\nClick here to Register\n
X-ALT-DESC;FMTTYPE=text/html:Recognizing and Treating Constipation in Individuals with I/DD (StationMD) <br /><br />10/20/25 01:00 PM EST - 10/20/25 02:00 PM EST<br />Description:<br /><p>Join StationMD for the next&nbsp; Pennsylvania webinar, which qualifies for one Training Hour, to explore the critical topic Constipation in I/DD: Recognition, Risks, and Treatment. The session will feature a presentation by Dr. Matthew Kaufman, cofounder and CEO of StationMD. Dr. Kaufman will discuss how constipation affects individuals with intellectual and developmental disabilities, the risks it poses, and effective approaches to recognition and treatment. The webinar will also include general information about the STAT Waiver service in Pennsylvania and provide time for audience Q&amp;A. Participants who wish to receive a certificate for their training hour must register in advance using the link provided below. Please feel free to share this invitation with colleagues and partners who may benefit from attending.&nbsp;<br />
<br />
<a href="https://events.zoom.us/ev/Am_RGBEE-u7vfjLW3yAwrLSYE2YUGdhYSfcACW9tbbUj8EC2vgwB~AsA15787eL6uw5HOiRwVtAgNoiuKgb9z7S6oWOCQ-V3fitAIKBdfHAPNMA?utm_medium=email&amp;_hsenc=p2ANqtz-_DhwW3viYnpauNH6XgTtyoznhsa9ETzFBZsUVyTanJle-zfVNh_t4apMnaJ6kcIi_wJf27wQv_i9cQz1fh-SxDUbLCGzfSAomnLNolizIgUZ5F7q8&amp;_hsmi=384602785&amp;utm_content=384602785&amp;utm_source=hs_email">Click here to Register</a></p>

PRIORITY:3
TRANSP:TRANSPARENT
BEGIN:VALARM
TRIGGER:-PT5M
ACTION:DISPLAY
DESCRIPTION:Reminder
END:VALARM
END:VEVENT
END:VCALENDAR
