BEGIN:VCALENDAR
VERSION:2.0
CALSCALE:GREGORIAN
METHOD:PUBLISH
PRODID://MILW//459402
BEGIN:VEVENT
DTSTAMP:20260423T160634
VTIMEZONE:America/Chicago
DTSTART:20251106T230000Z
DTEND:20251107T013000Z
UID:459402
SUMMARY:Arts @ Large Volunteer Event - Global Day of Impact Option #3
LOCATION:Street Angels , 125 N 120th St, Wauwatosa, WI, 53226
DESCRIPTION:Arts @ Large Volunteer Event - Global Day of Impact Option #3\n\n11/06/25 05:00 PM CST\n - 11/06/25 07:30 PM CST\Description:\n\n\n11/6/2025\n\n5:00 PM - 7:30 PM CST\n\n \n\nSpend an inspiring evening at Arts @ Large, combining creative service, connection, and conversation. The event features a tour, hands-on service activity, and social networking hour, followed by a presentation, at 7pm, on the importance of art programs in schools and communities.\nRegistration closes October 31.\n\nLocation: Arts @ Large\n\n1100 South 5th Street\n\nMilwaukee, WI 53204\n\n \n\nLearn more about Arts at Large \n\Location:\nStreet Angels \n125 N 120th St\nWauwatosa, WI 53226
X-ALT-DESC;FMTTYPE=text/html:Arts @ Large Volunteer Event - Global Day of Impact Option #3<br /><br />11/06/25 05:00 PM CST - 11/06/25 07:30 PM CST<br />Description:<br /><br />
<meta charset="utf-8" />
<p dir="ltr"><strong id="docs-internal-guid-5d2767be-7fff-2ea3-a4fd-6a7ff3c631cf">11/6/2025</strong></p>

<p dir="ltr"><strong id="docs-internal-guid-5d2767be-7fff-2ea3-a4fd-6a7ff3c631cf">5:00 PM - 7:30 PM CST</strong></p>

<p dir="ltr">&nbsp;</p>

<p dir="ltr"><strong id="docs-internal-guid-5d2767be-7fff-2ea3-a4fd-6a7ff3c631cf">Spend an inspiring evening at Arts @ Large, combining creative service, connection, and conversation. The event features a tour, hands-on service activity, and social networking hour, followed by a presentation, at 7pm, on the importance of art programs in schools and communities.<br />
Registration closes October 31.</strong></p>

<p dir="ltr"><strong id="docs-internal-guid-5d2767be-7fff-2ea3-a4fd-6a7ff3c631cf">Location: Arts @ Large</strong></p>

<p dir="ltr"><strong id="docs-internal-guid-5d2767be-7fff-2ea3-a4fd-6a7ff3c631cf">1100 South 5th Street</strong></p>

<p dir="ltr"><strong id="docs-internal-guid-5d2767be-7fff-2ea3-a4fd-6a7ff3c631cf">Milwaukee, WI 53204</strong></p>

<p dir="ltr">&nbsp;</p>

<p dir="ltr"><strong id="docs-internal-guid-5d2767be-7fff-2ea3-a4fd-6a7ff3c631cf"><a href="https://www.artsatlargeinc.org/">Learn more about Arts at Large&nbsp;</a></strong></p>
<br />Location:<br />Street Angels <br />125 N 120th St<br />Wauwatosa, WI 53226
PRIORITY:3
TRANSP:TRANSPARENT
BEGIN:VALARM
TRIGGER:-PT5M
ACTION:DISPLAY
DESCRIPTION:Reminder
END:VALARM
END:VEVENT
END:VCALENDAR
