BEGIN:VCALENDAR
VERSION:2.0
CALSCALE:GREGORIAN
METHOD:PUBLISH
PRODID://MILW//458950
BEGIN:VEVENT
DTSTAMP:20260421T234151
VTIMEZONE:America/Chicago
DTSTART:20251106T180000Z
DTEND:20251106T200000Z
UID:458950
SUMMARY:Street Angels Volunteer Event - Global Day of Impact Option #2
LOCATION:Street Angels , 125 N 120th St, Wauwatosa, WI, 53226
DESCRIPTION:Street Angels Volunteer Event - Global Day of Impact Option #2\n\n11/06/25 12:00 PM CST\n - 11/06/25 02:00 PM CST\Description:\n\n11/6/2025\n12:00 PM - 2:00 PM CST\n\nSupport Street Angels, a local outreach organization serving Milwaukee’s unhoused community. Volunteers will assemble personal hygiene kits and roll socks for distribution and learn more about Street Angels’ Shower Program Trailer and Outreach Bus through a guided tour.\n\nRegistration closes October 31.\n\nLocation: Street Angels\n125 N 120th St\nWauwatosa, WI 53226\nLearn more about Street Angels \Location:\nStreet Angels \n125 N 120th St\nWauwatosa, WI 53226
X-ALT-DESC;FMTTYPE=text/html:Street Angels Volunteer Event - Global Day of Impact Option #2<br /><br />11/06/25 12:00 PM CST - 11/06/25 02:00 PM CST<br />Description:<br /><meta charset="utf-8" />
<p dir="ltr"><strong id="docs-internal-guid-56346046-7fff-954c-9ec7-e0be10488292">11/6/2025<br />
12:00 PM - 2:00 PM CST</strong></p>

<p dir="ltr"><strong id="docs-internal-guid-56346046-7fff-954c-9ec7-e0be10488292">Support Street Angels, a local outreach organization serving Milwaukee&rsquo;s unhoused community. Volunteers will assemble personal hygiene kits and roll socks for distribution and learn more about Street Angels&rsquo; Shower Program Trailer and Outreach Bus through a guided tour.</strong></p>

<p dir="ltr"><strong id="docs-internal-guid-56346046-7fff-954c-9ec7-e0be10488292">Registration closes October 31.</strong></p>

<p dir="ltr"><strong id="docs-internal-guid-56346046-7fff-954c-9ec7-e0be10488292">Location: Street Angels<br />
125 N 120th St<br />
Wauwatosa, WI 53226</strong></p>
<strong id="docs-internal-guid-56346046-7fff-954c-9ec7-e0be10488292"><a href="https://streetangelsmke.org/">Learn more about Street Angels </a></strong><br />Location:<br />Street Angels <br />125 N 120th St<br />Wauwatosa, WI 53226
PRIORITY:3
TRANSP:TRANSPARENT
BEGIN:VALARM
TRIGGER:-PT5M
ACTION:DISPLAY
DESCRIPTION:Reminder
END:VALARM
END:VEVENT
END:VCALENDAR
